BEGIN:VCALENDAR
VERSION:2.0
PRODID:-//Engrenage[s] - ECPv6.10.2//NONSGML v1.0//EN
CALSCALE:GREGORIAN
METHOD:PUBLISH
X-WR-CALNAME:Engrenage[s]
X-ORIGINAL-URL:https://www.engrenages.eu
X-WR-CALDESC:Évènements pour Engrenage[s]
REFRESH-INTERVAL;VALUE=DURATION:PT1H
X-Robots-Tag:noindex
X-PUBLISHED-TTL:PT1H
BEGIN:VTIMEZONE
TZID:Europe/Paris
BEGIN:DAYLIGHT
TZOFFSETFROM:+0100
TZOFFSETTO:+0200
TZNAME:CEST
DTSTART:20260329T010000
END:DAYLIGHT
BEGIN:STANDARD
TZOFFSETFROM:+0200
TZOFFSETTO:+0100
TZNAME:CET
DTSTART:20261025T010000
END:STANDARD
END:VTIMEZONE
BEGIN:VEVENT
DTSTART;TZID=Europe/Paris:20260425T140000
DTEND;TZID=Europe/Paris:20260426T182000
DTSTAMP:20260422T212033
CREATED:20260422T135631Z
LAST-MODIFIED:20260422T135709Z
UID:10000959-1777125600-1777227600@www.engrenages.eu
SUMMARY:Buzz'in Brass syndicate - Opéra de Rennes
DESCRIPTION:La fan­fare bre­tonne Buzz’in Brass Syn­di­cate  s’inspire des légendes des brass bands outre-Atlan­tique pour créer un moment fes­tif\, aux rythmes enflam­més et dan­sants. Elle entraîne le public vers la danse comme une envie irré­sis­tible accen­tuée par le groove des artistes ! \n\n\n\n\nDurée 20 minutes envi­ron \nTout public
URL:https://www.engrenages.eu/evenement/buzzin-brass-syndicate-opera-de-rennes/
LOCATION:Place de la Mairie\, 29 rue de la République\, Puilboreau\, 17285\, France
CATEGORIES:Buzz in Brass Syndicate,Spectacles
ATTACH;FMTTYPE=image/jpeg:https://www.engrenages.eu/wp-content/uploads/2024/05/Buzz-in-Brass-Syndicate-c-Morgane-Michotte.jpg
GEO:46.1878963;-1.1191233
X-APPLE-STRUCTURED-LOCATION;VALUE=URI;X-ADDRESS=Place de la Mairie 29 rue de la République Puilboreau 17285 France;X-APPLE-RADIUS=500;X-TITLE=29 rue de la République:geo:-1.1191233,46.1878963
END:VEVENT
END:VCALENDAR