BEGIN:VCALENDAR
VERSION:2.0
PRODID:-//Engrenage[s] - ECPv6.10.2//NONSGML v1.0//EN
CALSCALE:GREGORIAN
METHOD:PUBLISH
X-ORIGINAL-URL:https://www.engrenages.eu
X-WR-CALDESC:Évènements pour Engrenage[s]
REFRESH-INTERVAL;VALUE=DURATION:PT1H
X-Robots-Tag:noindex
X-PUBLISHED-TTL:PT1H
BEGIN:VTIMEZONE
TZID:Europe/Paris
BEGIN:DAYLIGHT
TZOFFSETFROM:+0100
TZOFFSETTO:+0200
TZNAME:CEST
DTSTART:20200329T010000
END:DAYLIGHT
BEGIN:STANDARD
TZOFFSETFROM:+0200
TZOFFSETTO:+0100
TZNAME:CET
DTSTART:20201025T010000
END:STANDARD
BEGIN:DAYLIGHT
TZOFFSETFROM:+0100
TZOFFSETTO:+0200
TZNAME:CEST
DTSTART:20210328T010000
END:DAYLIGHT
BEGIN:STANDARD
TZOFFSETFROM:+0200
TZOFFSETTO:+0100
TZNAME:CET
DTSTART:20211031T010000
END:STANDARD
BEGIN:DAYLIGHT
TZOFFSETFROM:+0100
TZOFFSETTO:+0200
TZNAME:CEST
DTSTART:20220327T010000
END:DAYLIGHT
BEGIN:STANDARD
TZOFFSETFROM:+0200
TZOFFSETTO:+0100
TZNAME:CET
DTSTART:20221030T010000
END:STANDARD
BEGIN:DAYLIGHT
TZOFFSETFROM:+0100
TZOFFSETTO:+0200
TZNAME:CEST
DTSTART:20230326T010000
END:DAYLIGHT
BEGIN:STANDARD
TZOFFSETFROM:+0200
TZOFFSETTO:+0100
TZNAME:CET
DTSTART:20231029T010000
END:STANDARD
BEGIN:DAYLIGHT
TZOFFSETFROM:+0100
TZOFFSETTO:+0200
TZNAME:CEST
DTSTART:20240331T010000
END:DAYLIGHT
BEGIN:STANDARD
TZOFFSETFROM:+0200
TZOFFSETTO:+0100
TZNAME:CET
DTSTART:20241027T010000
END:STANDARD
BEGIN:DAYLIGHT
TZOFFSETFROM:+0100
TZOFFSETTO:+0200
TZNAME:CEST
DTSTART:20250330T010000
END:DAYLIGHT
BEGIN:STANDARD
TZOFFSETFROM:+0200
TZOFFSETTO:+0100
TZNAME:CET
DTSTART:20251026T010000
END:STANDARD
BEGIN:DAYLIGHT
TZOFFSETFROM:+0100
TZOFFSETTO:+0200
TZNAME:CEST
DTSTART:20260329T010000
END:DAYLIGHT
BEGIN:STANDARD
TZOFFSETFROM:+0200
TZOFFSETTO:+0100
TZNAME:CET
DTSTART:20261025T010000
END:STANDARD
END:VTIMEZONE
BEGIN:VEVENT
DTSTART;TZID=Europe/Paris:20260425T103000
DTEND;TZID=Europe/Paris:20260425T120000
DTSTAMP:20260425T204212
CREATED:20260422T073956Z
LAST-MODIFIED:20260422T074039Z
UID:10000957-1777113000-1777118400@www.engrenages.eu
SUMMARY:LOW LOW - INAUGURATION PISCINE VILLEJEAN - RENNES
DESCRIPTION:Ver­sion à 2 dan­seurs (Fran­co et Elo­die Beau­det) \n\n10h30 • Ani­ma­tions musi­cales et stand de maquillage devant l’an­cienne pis­cine  \n11h • Déam­bu­la­tion sur les ave­nues Ken­ne­dy et Wins­ton-Chur­chill\, sur la dalle Ken­ne­dy et le parc du Ber­ry. Le public est invi­té à venir dégui­sé !  \n12h30 • Inau­gu­ra­tion offi­cielle de la nou­velle pis­cine  \n13h • Concert des Trans’­mu­si­cales dans le parc du Ber­ry. Ceux qui le sou­haitent sont invi­tés à appor­ter leur pique-nique !
URL:https://www.engrenages.eu/evenement/low-low-inauguration-piscine-villejean-rennes/
LOCATION:1 Sq. d’Alsace\, 35000 Rennes\, 1 Sq. d'Alsace\, Rennes\, 35000\, France
CATEGORIES:Lowlow,Spectacles
ATTACH;FMTTYPE=image/jpeg:https://www.engrenages.eu/wp-content/uploads/2023/02/lowlow.jpg
END:VEVENT
BEGIN:VEVENT
DTSTART;TZID=Europe/Paris:20220917T100000
DTEND;TZID=Europe/Paris:20220917T123000
DTSTAMP:20260425T204212
CREATED:20220831T140008Z
LAST-MODIFIED:20230110T153932Z
UID:10000335-1663408800-1663417800@www.engrenages.eu
SUMMARY:OOZ BAND -DEAMBULATION - RENNES - WORLD CLEAN UP DAY
DESCRIPTION:Fanfare rennaise déjantée composée de huit aventuriers sonores\, le OOZ BAND ne joue que des compositions originales\, au croisement des musiques afro-américaines (funk\, jazz\, hip hop\, groove\, new orleans…) avec des chorégraphies venues d’un autre monde et des costumes sortant tout droit d’un film de Stanley Kubrick
URL:https://www.engrenages.eu/evenement/ooz-band-deambulation-rennes-world-clean-up-day/
LOCATION:Place Charles de Gaulles\, Esplanade Charles de Gaulle\, Rennes\, 35000\, France
CATEGORIES:Évènements participatifs,Ooz Band
ATTACH;FMTTYPE=image/jpeg:https://www.engrenages.eu/wp-content/uploads/2022/06/ooz-band-1.jpg
GEO:48.106485;-1.6767891
X-APPLE-STRUCTURED-LOCATION;VALUE=URI;X-ADDRESS=Place Charles de Gaulles Esplanade Charles de Gaulle Rennes 35000 France;X-APPLE-RADIUS=500;X-TITLE=Esplanade Charles de Gaulle:geo:-1.6767891,48.106485
END:VEVENT
BEGIN:VEVENT
DTSTART;TZID=Europe/Paris:20220701T203000
DTEND;TZID=Europe/Paris:20220701T220000
DTSTAMP:20260425T204212
CREATED:20220628T090851Z
LAST-MODIFIED:20230110T153942Z
UID:10000610-1656707400-1656712800@www.engrenages.eu
SUMMARY:Low Low - Cet été à Rennes - La fête de la place Jean Monnet
DESCRIPTION:DÉAMBULATION VÉLO / DANSE HIP-HOP\nTOUT PUBLIC | DURÉE VARIABLE \nFran­co en low rider\, une enceinte sur son fun­ky vélo\, il dif­fuse de la musique\, danse et essaime de la poé­sie sur le maca­dam.\nPar­tage de gestes\, danse à voir\, ou mou­ve­ments à essayer\, … le plai­sir de l’improvisation sur une sélec­tion musi­cale éclec­tique à la Fran­co mêlant groove \, funk \, hip hop et com­po­si­tions ori­gi­nales. Le tout pour un par­tage avec le public\, sans filtre\, dans la spon­ta­néi­té du moment pré­sent !\nAvec cette forme artis­tique\, adap­table et tech­ni­que­ment auto­nome\, ça roule (presque) par­tout\, en déam­bu­la­tion\, avec des arrêts à dan­ser\, en bref … des par­cours à ima­gi­ner avec Fran­co\, dan­seur\, MC\, selec­tor et ambian­ceur\, en solo ou accom­pa­gné par d’autres dan­seurs ou musi­ciens .\nDis­tri­bu­tion\nCho­ré­gra­phie et inter­pré­ta­tion : Fran­co\nCréa­tion et sélec­tion musi­cale : Fran­co
URL:https://www.engrenages.eu/evenement/low-low-cet-ete-a-rennes-place-de-la-mairie/
LOCATION:15 rue Jean Monnet\, Rennes\, France
CATEGORIES:Lowlow,Spectacles
ATTACH;FMTTYPE=image/jpeg:https://www.engrenages.eu/wp-content/uploads/2022/06/Low-Low-1.jpg
END:VEVENT
BEGIN:VEVENT
DTSTART;TZID=Europe/Paris:20220701T180000
DTEND;TZID=Europe/Paris:20220701T200000
DTSTAMP:20260425T204212
CREATED:20220619T184535Z
LAST-MODIFIED:20230110T153943Z
UID:10000607-1656698400-1656705600@www.engrenages.eu
SUMMARY:Low Low - Déambulation - Inauguration Square Madeleine Brès
DESCRIPTION:DÉAMBULATION VÉLO / DANSE HIP-HOP\nTOUT PUBLIC | DURÉE VARIABLE \nFran­co en low rider\, une enceinte sur son fun­ky vélo\, il dif­fuse de la musique\, danse et essaime de la poé­sie sur le maca­dam.\nPar­tage de gestes\, danse à voir\, ou mou­ve­ments à essayer\, … le plai­sir de l’improvisation sur une sélec­tion musi­cale éclec­tique à la Fran­co mêlant groove \, funk \, hip hop et com­po­si­tions ori­gi­nales. Le tout pour un par­tage avec le public\, sans filtre\, dans la spon­ta­néi­té du moment pré­sent !\nAvec cette forme artis­tique\, adap­table et tech­ni­que­ment auto­nome\, ça roule (presque) par­tout\, en déam­bu­la­tion\, avec des arrêts à dan­ser\, en bref … des par­cours à ima­gi­ner avec Fran­co\, dan­seur\, MC\, selec­tor et ambian­ceur\, en solo ou accom­pa­gné par d’autres dan­seurs ou musi­ciens .\nDis­tri­bu­tion\nCho­ré­gra­phie et inter­pré­ta­tion : Fran­co\nCréa­tion et sélec­tion musi­cale : Fran­co
URL:https://www.engrenages.eu/evenement/low-low-deambulation-inauguration-square-madeleine-bres-2/
LOCATION:Place Jean Monnet\, 25 Rue Jean Monnet\, Rennes\, 35000\, France
CATEGORIES:Lowlow,Spectacles
ATTACH;FMTTYPE=image/jpeg:https://www.engrenages.eu/wp-content/uploads/2022/06/Low-Low-1.jpg
GEO:48.0898982;-1.6394621
X-APPLE-STRUCTURED-LOCATION;VALUE=URI;X-ADDRESS=Place Jean Monnet 25 Rue Jean Monnet Rennes 35000 France;X-APPLE-RADIUS=500;X-TITLE=25 Rue Jean Monnet:geo:-1.6394621,48.0898982
END:VEVENT
BEGIN:VEVENT
DTSTART;TZID=Europe/Paris:20220611T080000
DTEND;TZID=Europe/Paris:20220611T170000
DTSTAMP:20260425T204212
CREATED:20220610T145337Z
LAST-MODIFIED:20230110T153946Z
UID:10000311-1654934400-1654966800@www.engrenages.eu
SUMMARY:Low low - Représentation - Inauguration Square Madeleine Breiz Rennes
DESCRIPTION:DÉAMBULATION VÉLO / DANSE HIP-HOP\nTOUT PUBLIC | DURÉE VARIABLE\nFran­co en low rider\, une enceinte sur son fun­ky vélo\, il dif­fuse de la musique\, danse et essaime de la poé­sie sur le maca­dam. \nPar­tage de gestes\, danse à voir\, ou mou­ve­ments à essayer\, … le plai­sir de l’improvisation sur une sélec­tion musi­cale éclec­tique à la Fran­co mêlant groove \, funk \, hip hop et com­po­si­tions ori­gi­nales. Le tout pour un par­tage avec le public\, sans filtre\, dans la spon­ta­néi­té du moment pré­sent ! \nAvec cette forme artis­tique\, adap­table et tech­ni­que­ment auto­nome\, ça roule (presque) par­tout\, en déam­bu­la­tion\, avec des arrêts à dan­ser\, en bref … des par­cours à ima­gi­ner avec Fran­co\, dan­seur\, MC\, selec­tor et ambian­ceur\, en solo ou accom­pa­gné par d’autres dan­seurs ou musi­ciens . \nDis­tri­bu­tion\nCho­ré­gra­phie et inter­pré­ta­tion : Fran­co\nCréa­tion et sélec­tion musi­cale : Fran­co
URL:https://www.engrenages.eu/evenement/low-low-representation-inauguration-square-madeleine-breiz-rennes/
LOCATION:Square Madeleine Breiz\, Rennes\, 35000\, France
CATEGORIES:Lowlow,Spectacles
ATTACH;FMTTYPE=image/jpeg:https://www.engrenages.eu/wp-content/uploads/2022/06/Low-Low-1.jpg
END:VEVENT
BEGIN:VEVENT
DTSTART;TZID=Europe/Paris:20200823T143000
DTEND;TZID=Europe/Paris:20200823T143000
DTSTAMP:20260425T204212
CREATED:20200708T085749Z
LAST-MODIFIED:20230110T154026Z
UID:10000429-1598193000-1598193000@www.engrenages.eu
SUMMARY:OOZ BAND
DESCRIPTION:OOZ BAND ne joue que des com­po­si­tions ori­gi­nales\, au croi­se­ment des musiques afro-amé­ri­caines (funk\, jazz\, hip hop\, groove\, new orleans…) avec des cho­ré­gra­phies venues d’un autre monde et des cos­tumes sor­tant tout droit d’un film de Stan­ley Kubrick. Avec une for­mule adap­table sur scène comme en rue\, le OOZ BAND peut se pro­duire sur tous les types de sol\, pour tous types d’événements\, par­tout en France ou ailleurs\, pour votre plus grand bon­heur ! Plu­sieurs for­mules sont pos­sibles et ajus­tables en fonc­tion de votre demande.
URL:https://www.engrenages.eu/evenement/ooz-band-2-3-2-3-2-2/
LOCATION:Les Ateliers du Vent\, 59 rue Alexandre Duval\, Rennes\, France
CATEGORIES:Ooz Band
ATTACH;FMTTYPE=image/jpeg:https://www.engrenages.eu/wp-content/uploads/2023/01/default.jpg
GEO:48.1032614;-1.6969241
X-APPLE-STRUCTURED-LOCATION;VALUE=URI;X-ADDRESS=Les Ateliers du Vent 59 rue Alexandre Duval Rennes France;X-APPLE-RADIUS=500;X-TITLE=59 rue Alexandre Duval:geo:-1.6969241,48.1032614
END:VEVENT
END:VCALENDAR