BEGIN:VCALENDAR
VERSION:2.0
PRODID:-//Engrenage[s] - ECPv6.10.2//NONSGML v1.0//EN
CALSCALE:GREGORIAN
METHOD:PUBLISH
X-ORIGINAL-URL:https://www.engrenages.eu
X-WR-CALDESC:Évènements pour Engrenage[s]
REFRESH-INTERVAL;VALUE=DURATION:PT1H
X-Robots-Tag:noindex
X-PUBLISHED-TTL:PT1H
BEGIN:VTIMEZONE
TZID:Europe/Paris
BEGIN:DAYLIGHT
TZOFFSETFROM:+0100
TZOFFSETTO:+0200
TZNAME:CEST
DTSTART:20220327T010000
END:DAYLIGHT
BEGIN:STANDARD
TZOFFSETFROM:+0200
TZOFFSETTO:+0100
TZNAME:CET
DTSTART:20221030T010000
END:STANDARD
END:VTIMEZONE
BEGIN:VEVENT
DTSTART;TZID=Europe/Paris:20220701T180000
DTEND;TZID=Europe/Paris:20220701T200000
DTSTAMP:20260425T200920
CREATED:20220619T184535Z
LAST-MODIFIED:20230110T153943Z
UID:10000607-1656698400-1656705600@www.engrenages.eu
SUMMARY:Low Low - Déambulation - Inauguration Square Madeleine Brès
DESCRIPTION:DÉAMBULATION VÉLO / DANSE HIP-HOP\nTOUT PUBLIC | DURÉE VARIABLE \nFran­co en low rider\, une enceinte sur son fun­ky vélo\, il dif­fuse de la musique\, danse et essaime de la poé­sie sur le maca­dam.\nPar­tage de gestes\, danse à voir\, ou mou­ve­ments à essayer\, … le plai­sir de l’improvisation sur une sélec­tion musi­cale éclec­tique à la Fran­co mêlant groove \, funk \, hip hop et com­po­si­tions ori­gi­nales. Le tout pour un par­tage avec le public\, sans filtre\, dans la spon­ta­néi­té du moment pré­sent !\nAvec cette forme artis­tique\, adap­table et tech­ni­que­ment auto­nome\, ça roule (presque) par­tout\, en déam­bu­la­tion\, avec des arrêts à dan­ser\, en bref … des par­cours à ima­gi­ner avec Fran­co\, dan­seur\, MC\, selec­tor et ambian­ceur\, en solo ou accom­pa­gné par d’autres dan­seurs ou musi­ciens .\nDis­tri­bu­tion\nCho­ré­gra­phie et inter­pré­ta­tion : Fran­co\nCréa­tion et sélec­tion musi­cale : Fran­co
URL:https://www.engrenages.eu/evenement/low-low-deambulation-inauguration-square-madeleine-bres-2/
LOCATION:Place Jean Monnet\, 25 Rue Jean Monnet\, Rennes\, 35000\, France
CATEGORIES:Lowlow,Spectacles
ATTACH;FMTTYPE=image/jpeg:https://www.engrenages.eu/wp-content/uploads/2022/06/Low-Low-1.jpg
GEO:48.0898982;-1.6394621
X-APPLE-STRUCTURED-LOCATION;VALUE=URI;X-ADDRESS=Place Jean Monnet 25 Rue Jean Monnet Rennes 35000 France;X-APPLE-RADIUS=500;X-TITLE=25 Rue Jean Monnet:geo:-1.6394621,48.0898982
END:VEVENT
END:VCALENDAR