BEGIN:VCALENDAR
VERSION:2.0
PRODID:-//Engrenage[s] - ECPv6.10.2//NONSGML v1.0//EN
CALSCALE:GREGORIAN
METHOD:PUBLISH
X-ORIGINAL-URL:https://www.engrenages.eu
X-WR-CALDESC:Évènements pour Engrenage[s]
REFRESH-INTERVAL;VALUE=DURATION:PT1H
X-Robots-Tag:noindex
X-PUBLISHED-TTL:PT1H
BEGIN:VTIMEZONE
TZID:Europe/Paris
BEGIN:DAYLIGHT
TZOFFSETFROM:+0100
TZOFFSETTO:+0200
TZNAME:CEST
DTSTART:20260329T010000
END:DAYLIGHT
BEGIN:STANDARD
TZOFFSETFROM:+0200
TZOFFSETTO:+0100
TZNAME:CET
DTSTART:20261025T010000
END:STANDARD
END:VTIMEZONE
BEGIN:VEVENT
DTSTART;TZID=Europe/Paris:20260424T150000
DTEND;TZID=Europe/Paris:20260424T160000
DTSTAMP:20260422T212034
CREATED:20260422T134155Z
LAST-MODIFIED:20260422T134713Z
UID:10000958-1777042800-1777046400@www.engrenages.eu
SUMMARY:Seul à Sol - TRIO...s Inzinzac-Lochrist
DESCRIPTION:« Seul à Sol » est une pièce cho­ré­gra­phique hip-hop inter­pré­tée par le dan­seur et cho­ré­graphe Franck “Fran­co” Gui­zonne\, fon­da­teur de la com­pa­gnie Engrenage[s]. \nDans ce solo\, l’artiste nous plonge dans une démarche per­son­nelle et intime où la danse devient un moyen d’expression pro­fond. \nTout com­mence par un rythme. Comme un bat­te­ment de cœur\, la musique accom­pagne le dan­seur dans un voyage inté­rieur où se croisent sou­ve­nirs\, choix de vie\, doutes et pas­sions. \nSeul face au public\, au sol et à la musique\, Fran­co explore son his­toire de dan­seur et son par­cours artis­tique. À tra­vers l’improvisation et les tech­niques hip-hop\, il par­tage une danse sin­cère\, humaine et acces­sible. \nCe solo raconte aus­si le par­cours d’un dan­seur auto­di­dacte qui découvre le hip-hop dans les années 80 et qui\, au fil des ren­contres et col­la­bo­ra­tions\, construit son uni­vers artis­tique et cho­ré­gra­phique.
URL:https://www.engrenages.eu/evenement/seul-a-sol-trio-s-inzinzac-lochrist/
LOCATION:EPCC TRIO\, TRIO..S Théâtre du Blavet Place François Mitterrand\, Inzinzac-Lochrist\, 56650\, France
CATEGORIES:Seul à sol,Spectacles
ATTACH;FMTTYPE=image/jpeg:https://www.engrenages.eu/wp-content/uploads/2018/12/seul-à-sol.jpg
END:VEVENT
END:VCALENDAR