BEGIN:VCALENDAR
VERSION:2.0
PRODID:-//Engrenage[s] - ECPv6.10.2//NONSGML v1.0//EN
CALSCALE:GREGORIAN
METHOD:PUBLISH
X-ORIGINAL-URL:https://www.engrenages.eu
X-WR-CALDESC:Évènements pour Engrenage[s]
REFRESH-INTERVAL;VALUE=DURATION:PT1H
X-Robots-Tag:noindex
X-PUBLISHED-TTL:PT1H
BEGIN:VTIMEZONE
TZID:Europe/Paris
BEGIN:DAYLIGHT
TZOFFSETFROM:+0100
TZOFFSETTO:+0200
TZNAME:CEST
DTSTART:20260329T010000
END:DAYLIGHT
BEGIN:STANDARD
TZOFFSETFROM:+0200
TZOFFSETTO:+0100
TZNAME:CET
DTSTART:20261025T010000
END:STANDARD
END:VTIMEZONE
BEGIN:VEVENT
DTSTART;TZID=Europe/Paris:20260425T103000
DTEND;TZID=Europe/Paris:20260425T120000
DTSTAMP:20260422T204504
CREATED:20260422T073956Z
LAST-MODIFIED:20260422T074039Z
UID:10000957-1777113000-1777118400@www.engrenages.eu
SUMMARY:LOW LOW - INAUGURATION PISCINE VILLEJEAN - RENNES
DESCRIPTION:Ver­sion à 2 dan­seurs (Fran­co et Elo­die Beau­det) \n\n10h30 • Ani­ma­tions musi­cales et stand de maquillage devant l’an­cienne pis­cine  \n11h • Déam­bu­la­tion sur les ave­nues Ken­ne­dy et Wins­ton-Chur­chill\, sur la dalle Ken­ne­dy et le parc du Ber­ry. Le public est invi­té à venir dégui­sé !  \n12h30 • Inau­gu­ra­tion offi­cielle de la nou­velle pis­cine  \n13h • Concert des Trans’­mu­si­cales dans le parc du Ber­ry. Ceux qui le sou­haitent sont invi­tés à appor­ter leur pique-nique !
URL:https://www.engrenages.eu/evenement/low-low-inauguration-piscine-villejean-rennes/
LOCATION:1 Sq. d’Alsace\, 35000 Rennes\, 1 Sq. d'Alsace\, Rennes\, 35000\, France
CATEGORIES:Lowlow,Spectacles
ATTACH;FMTTYPE=image/jpeg:https://www.engrenages.eu/wp-content/uploads/2023/02/lowlow.jpg
END:VEVENT
END:VCALENDAR