BEGIN:VCALENDAR
VERSION:2.0
PRODID:-//Engrenage[s] - ECPv6.10.2//NONSGML v1.0//EN
CALSCALE:GREGORIAN
METHOD:PUBLISH
X-ORIGINAL-URL:https://www.engrenages.eu
X-WR-CALDESC:Évènements pour Engrenage[s]
REFRESH-INTERVAL;VALUE=DURATION:PT1H
X-Robots-Tag:noindex
X-PUBLISHED-TTL:PT1H
BEGIN:VTIMEZONE
TZID:Europe/Paris
BEGIN:DAYLIGHT
TZOFFSETFROM:+0100
TZOFFSETTO:+0200
TZNAME:CEST
DTSTART:20230326T010000
END:DAYLIGHT
BEGIN:STANDARD
TZOFFSETFROM:+0200
TZOFFSETTO:+0100
TZNAME:CET
DTSTART:20231029T010000
END:STANDARD
END:VTIMEZONE
BEGIN:VEVENT
DTSTART;VALUE=DATE:20230109
DTEND;VALUE=DATE:20230114
DTSTAMP:20260422T234338
CREATED:20221222T143956Z
LAST-MODIFIED:20230130T031248Z
UID:10000628-1673222400-1673654399@www.engrenages.eu
SUMMARY:CAILLOU - Résidence au CCNRB
DESCRIPTION:Après 3 rési­dences immer­sives en France métro­po­li­taine\, en Gua­de­loupe puis au Séné­gal\, les 3 dan­seuses se retrouvent à nou­veau en France métro­po­li­taine pour une ultime rési­dence.\n\nNour­ries de leurs expé­riences et des ren­contres faites sur les dif­fé­rents ter­ri­toires\, Marie Hou­din\, Stel­la Mou­tou et Cla­risse Sagna vont cette fois-ci tra­vailler à la créa­tion du spec­tacle « Caillou ». Un temps essen­tiel pour retrans­crire au mieux leurs regards\, leurs vécus et leur res­sen­ti autour des effet du colo­nia­lisme sur les genres\, la raci­sa­tion et les espaces.
URL:https://www.engrenages.eu/evenement/caillou-residence-au-ccnrb/
LOCATION:Centre Chorégraphique National de Rennes et de Bretagne\, 38 rue Saint-Melaine\, Rennes\, 35000\, France
CATEGORIES:Caillou,The Unexpected Dance
ATTACH;FMTTYPE=image/png:https://www.engrenages.eu/wp-content/uploads/2022/12/Capture.png
GEO:48.11475;-1.6758586
X-APPLE-STRUCTURED-LOCATION;VALUE=URI;X-ADDRESS=Centre Chorégraphique National de Rennes et de Bretagne 38 rue Saint-Melaine Rennes 35000 France;X-APPLE-RADIUS=500;X-TITLE=38 rue Saint-Melaine:geo:-1.6758586,48.11475
END:VEVENT
END:VCALENDAR