BEGIN:VCALENDAR
VERSION:2.0
PRODID:-//Engrenage[s] - ECPv6.10.2//NONSGML v1.0//EN
CALSCALE:GREGORIAN
METHOD:PUBLISH
X-WR-CALNAME:Engrenage[s]
X-ORIGINAL-URL:https://www.engrenages.eu
X-WR-CALDESC:Évènements pour Engrenage[s]
REFRESH-INTERVAL;VALUE=DURATION:PT1H
X-Robots-Tag:noindex
X-PUBLISHED-TTL:PT1H
BEGIN:VTIMEZONE
TZID:Europe/Paris
BEGIN:DAYLIGHT
TZOFFSETFROM:+0100
TZOFFSETTO:+0200
TZNAME:CEST
DTSTART:20220327T010000
END:DAYLIGHT
BEGIN:STANDARD
TZOFFSETFROM:+0200
TZOFFSETTO:+0100
TZNAME:CET
DTSTART:20221030T010000
END:STANDARD
END:VTIMEZONE
BEGIN:VEVENT
DTSTART;TZID=Europe/Paris:20220430T140000
DTEND;TZID=Europe/Paris:20220502T180000
DTSTAMP:20260423T233651
CREATED:20220325T094552Z
LAST-MODIFIED:20230110T153951Z
UID:10000533-1651327200-1651514400@www.engrenages.eu
SUMMARY:Caillou - actions culturelles
DESCRIPTION:Dans le cadre de la rési­dence du pro­jet Caillou au Centre Cho­ré­gra­phique Natio­nal de Nantes\, Marie Hou­din pro­po­se­ra des stages pour des ado­les­cents et un Entrai­ne­ment Régu­lier Dan­seur (ERD) \nLe same­di 30 avril entre 14h et 18h\nLe dimanche 1er mai entre 10h et 16h\nLe lun­di 2 mai à 10h => ERD
URL:https://www.engrenages.eu/evenement/caillou-actions-culturelles/
LOCATION:CCN de Nantes\, 23 rue Noire\, Nantes\, 44000\, France
CATEGORIES:Caillou,The Unexpected Dance
ATTACH;FMTTYPE=image/png:https://www.engrenages.eu/wp-content/uploads/2021/12/3-danseuses.png
GEO:47.2263326;-1.5623806
X-APPLE-STRUCTURED-LOCATION;VALUE=URI;X-ADDRESS=CCN de Nantes 23 rue Noire Nantes 44000 France;X-APPLE-RADIUS=500;X-TITLE=23 rue Noire:geo:-1.5623806,47.2263326
END:VEVENT
END:VCALENDAR