BEGIN:VCALENDAR
VERSION:2.0
PRODID:-//Engrenage[s] - ECPv6.10.2//NONSGML v1.0//EN
CALSCALE:GREGORIAN
METHOD:PUBLISH
X-ORIGINAL-URL:https://www.engrenages.eu/en/
X-WR-CALDESC:Events for Engrenage[s]
REFRESH-INTERVAL;VALUE=DURATION:PT1H
X-Robots-Tag:noindex
X-PUBLISHED-TTL:PT1H
BEGIN:VTIMEZONE
TZID:Europe/Paris
BEGIN:DAYLIGHT
TZOFFSETFROM:+0100
TZOFFSETTO:+0200
TZNAME:CEST
DTSTART:20190331T010000
END:DAYLIGHT
BEGIN:STANDARD
TZOFFSETFROM:+0200
TZOFFSETTO:+0100
TZNAME:CET
DTSTART:20191027T010000
END:STANDARD
END:VTIMEZONE
BEGIN:VEVENT
DTSTART;VALUE=DATE:20190103
DTEND;VALUE=DATE:20190202
DTSTAMP:20260425T011553
CREATED:20181106T133955Z
LAST-MODIFIED:20230110T154204Z
UID:10000272-1546473600-1549065599@www.engrenages.eu
SUMMARY:Voyage de recherche et de collectes de danse
DESCRIPTION:Entre l’automne 2018 et le prin­temps 2019\, Marie Hou­din va mener 3 voyages de recherche\, de col­lectes vidéos et sonores et d’échanges cho­ré­gra­phiques. Cuba\, le Séné­gal et enfin la Nou­velle-Orléans. Trois ter­ri­toires liés par une his­toire com­mune et des allers retours. Dans les­quels la danse cir­cule et\, dans sa fonc­tion sociale\, est en vie\, sem­blant même influen­cer sur la vie. \nMarie Hou­din\, accom­pa­gnée par moments d’un réa­li­sa­teur vidéo (Julien Durand) ou d’un caméraman/preneur de son (Kris Nol­ly)\, par­ti­ra en quête des moments de vie où la danse et la musique ras­semblent dehors\, dans les clubs\, dans les écoles\, dans les cours. Ren­con­trer des artistes\, mais aus­si toute sorte de gens\, de toutes géné­ra­tions \, mais aus­si des cher­cheurs\, et des pas­seurs de cultures . Et aller à la ren­contre des his­toires qui sont liées aux danses et aux musiques. Ces voyages\, où la ren­contre et la rela­tion sont au cœur\, seront ain­si éga­le­ment l’occasion de déve­lop­per des temps de ren­contres\, d’échanges\, de créa­tion et de per­for­mances\, avec des publics.
URL:https://www.engrenages.eu/en/evenement/voyage-de-recherche-et-de-collectes-de-danse-2/
LOCATION:Sénégal\, Senegal
ATTACH;FMTTYPE=image/jpeg:https://www.engrenages.eu/wp-content/uploads/2018/01/IMG-20180106-WA0013.jpg
GEO:14.497401;-14.452362
END:VEVENT
BEGIN:VEVENT
DTSTART;VALUE=DATE:20190130
DTEND;VALUE=DATE:20190224
DTSTAMP:20260425T011553
CREATED:20190220T091739Z
LAST-MODIFIED:20230110T154202Z
UID:10000323-1548806400-1550966399@www.engrenages.eu
SUMMARY:Exposition Graff
DESCRIPTION:Dans le cadre de l’é­vè­ne­ment « Les bottes de 7 lieux » Arts urbains orga­ni­sé par le Pays de Bro­cé­liande\, Alexandre Lemagne\, graf­feur\, expose « SH52 by Store ». Une expo­si­tion d’af­fiches détour­nées uti­li­sant l’uni­vers  comics des années 60. Autour de cette expo­si­tion\, il pro­po­se­ra 5 ate­liers de graff\, ouvert à tous\, les 9\, 16\, 20\, 21 et 22 février.
URL:https://www.engrenages.eu/en/evenement/exposition-graff/
LOCATION:Médiathèque\, Treffendel\, 35340\, France
ATTACH;FMTTYPE=image/jpeg:https://www.engrenages.eu/wp-content/uploads/2017/09/setro2.jpg
END:VEVENT
BEGIN:VEVENT
DTSTART;TZID=Europe/Paris:20190208T203000
DTEND;TZID=Europe/Paris:20190208T203000
DTSTAMP:20260425T011553
CREATED:20181017T105115Z
LAST-MODIFIED:20230110T154202Z
UID:10000032-1549657800-1549657800@www.engrenages.eu
SUMMARY:Yoann Minkoff & Kris Nolly
DESCRIPTION:Une musique aérienne\, où la gui­tare\, la voix et le beat­box se croisent dans un per­pé­tuel dia­logue. \nLe Fran­co-Bri­tan­nique\, habi­tué des for­ma­tions élec­triques (City Kay\, Joe Pil­grim & the Lige­rians…) livre son pro­jet solo dans lequel se dévoile un Blues per­son­nel et poé­tique tein­té de Man­dingue\, de Pop anglaise et de Folk Nord-amé­ri­cain. Yoann Min­koff est accom­pa­gné en live par le Beat­boxer Kris Nol­ly (Ka Jazz\, Home­coo­king…) avec lequel une com­pli­ci­té musi­cale s’est nouée. Aux cou­leurs riches de la gui­tare et à la voix cha­leu­reuse s’ajoute désor­mais une ryth­mique puis­sante et sub­tile entiè­re­ment exé­cu­tée à la bouche. Le duo oscille entre com­po­si­tions tirées de l’album « Black & White Blues » mor­ceaux inédits et reprises allant de Skip James à Alvin Young­blood hart. Remar­qués en France lors de leurs pas­sages à la Bel­le­vil­loise (Paris) au fes­ti­val Blues de Beau­vais ou encore à l’UBU (Rennes)\, Yoann & Kris ont éga­le­ment tour­né en Angle­terre\, aux Emi­rats Arabes et en Afrique du Sud et ont col­la­bo­ré avec d’autres artistes aux uni­vers aus­si riches que variés.
URL:https://www.engrenages.eu/en/evenement/yoann-minkoff-kris-nolly-3-4-3-2-3-3/
LOCATION:Centre culturel de l’Antichambre\, Mordelles\, France
ATTACH;FMTTYPE=image/jpeg:https://www.engrenages.eu/wp-content/uploads/2018/01/yoann-minkoff-kris-nolly-elodie-le-gall.jpg
END:VEVENT
BEGIN:VEVENT
DTSTART;TZID=Europe/Paris:20190209T230000
DTEND;TZID=Europe/Paris:20190210T050000
DTSTAMP:20260425T011553
CREATED:20190116T105242Z
LAST-MODIFIED:20230110T154202Z
UID:10000320-1549753200-1549774800@www.engrenages.eu
SUMMARY:LET’S DANCE FUNKY TOWN (after de Travelling)
DESCRIPTION:Les Trans et Engrenage[s] pré­sentent Let’s dance fun­ky town ! dans le cadre du fes­ti­val Tra­vel­ling\, orches­trée par les cho­ré­graphes\, dan­seurs et DJ’s d’Engrenage[s]\, DJ Pha­roah\, Dj Fre­shhh & Dj Mask ! \nAux com­mandes\, les cho­ré­graphes Marie Hou­din et Fran­co concoctent spé­cia­le­ment pour cette occa­sion une soi­rée métis­sée pour vous embar­quer dans un tour du monde du funk\, un voyage rem­pli de grooves et de fun­kys­teps : de Lagos à Chi­ca­go en pas­sant par New York\, Dakar\, Tokyo\, La Havane\, Paris ou Ber­lin\, toutes les villes du monde sont irré­sis­ti­ble­ment FUNK ! Alors atta­chez vos cein­tures et sur­tout ne res­tez pas assis : ça va groo­ver ! Let’s dance ! \n\n\n  \n> Billet dis­po­nible ci-des­sous (PRIX : 5/6/10€) : \n\nPowe­red by Wee­zevent
URL:https://www.engrenages.eu/en/evenement/lets-dance-funky-town-after-de-travelling/
LOCATION:UBU\, Rennes\, France
ATTACH;FMTTYPE=application/pdf:https://www.engrenages.eu/wp-content/uploads/2019/01/Letsdancefunkytown_40X60-visuel.pdf
ORGANIZER;CN="Engrenage[s]":MAILTO:contact@engrenages.eu
END:VEVENT
BEGIN:VEVENT
DTSTART;VALUE=DATE:20190210
DTEND;VALUE=DATE:20190211
DTSTAMP:20260425T011554
CREATED:20181106T145627Z
LAST-MODIFIED:20230110T154202Z
UID:10000283-1549756800-1549843199@www.engrenages.eu
SUMMARY:Atelier danse - We Are New Orleans
DESCRIPTION:WE ARE NEW ORLEANS\nCette rési­dence-mis­sion finan­cée par le Dépar­te­ment d’Ille-et-Vilaine et les par­te­naires du ter­ri­toire\, est une for­mi­dable occa­sion pour les habitant·e·s de par­ti­ci­per à un pro­jet artis­tique riche\, fes­tif et convi­vial autour des musiques cui­vrées de la Nou­velle-Orléans. Pen­dant plus d’un an\, l’esprit « NOLA »(*) va souf­fler sur la Com­mu­nau­té de com­munes avec ses mélo­dies\, son sens de la fête\, sa convi­via­li­té et ses fameuses parades ! Le résul­tat final sera un grand bras­sage cultu­rel et par­ti­ci­pa­tif qui don­ne­ra lieu à deux déam­bu­la­tions musi­cales et cho­ré­gra­phiques orches­trées par les artistes d’Engrenage[s] autour de leur créa­tion Red Line Cros­sers\, et tous·tes les habitant·e·​s par­ti­ci­pant au pro­jet.  \n  \n 
URL:https://www.engrenages.eu/en/evenement/gospel-new-orleans-2-2/
LOCATION:Centre Culturel\, Liffré\, 35340\, France
ATTACH;FMTTYPE=image/jpeg:https://www.engrenages.eu/wp-content/uploads/2018/07/136A4786-c-nicolas_joubard-1200x800.jpg
GEO:48.214048;-1.505816
END:VEVENT
BEGIN:VEVENT
DTSTART;VALUE=DATE:20190224
DTEND;VALUE=DATE:20190225
DTSTAMP:20260425T011554
CREATED:20190131T124928Z
LAST-MODIFIED:20230110T154201Z
UID:10000066-1550966400-1551052799@www.engrenages.eu
SUMMARY:OOZBAND
DESCRIPTION:Fan­fare ren­naise déjan­tée com­po­sée de huit aven­tu­riers sonores\, le OOZ BAND ne joue que des com­po­si­tions ori­gi­nales\, au croi­se­ment des musiques afro-amé­ri­caines (funk\, jazz\, hip hop\, groove\, new orleans…) avec des cho­ré­gra­phies venues d’un autre monde et des cos­tumes sor­tant tout droit d’un film de Stan­ley Kubrick. Avec une for­mule adap­table sur scène comme en rue\, le OOZ BAND peut se pro­duire sur tous les types de sol\, pour tous types d’événements\, par­tout en France ou ailleurs\, pour votre plus grand bon­heur ! Plu­sieurs for­mules sont pos­sibles et ajus­tables en fonc­tion de votre demande.
URL:https://www.engrenages.eu/en/evenement/oozband-2-2-4/
LOCATION:Festakt 55 Jahre\, Allemagne\, Allemagne
ATTACH;FMTTYPE=image/jpeg:https://www.engrenages.eu/wp-content/uploads/2023/01/default.jpg
END:VEVENT
BEGIN:VEVENT
DTSTART;TZID=Europe/Paris:20190224T140000
DTEND;TZID=Europe/Paris:20190224T163000
DTSTAMP:20260425T011554
CREATED:20181106T153324Z
LAST-MODIFIED:20230110T154201Z
UID:10000293-1551016800-1551025800@www.engrenages.eu
SUMMARY:Atelier danse - We Are New Orleans
DESCRIPTION:WE ARE NEW ORLEANS\nCette rési­dence-mis­sion finan­cée par le Dépar­te­ment d’Ille-et-Vilaine et les par­te­naires du ter­ri­toire\, est une for­mi­dable occa­sion pour les habitant·e·s de par­ti­ci­per à un pro­jet artis­tique riche\, fes­tif et convi­vial autour des musiques cui­vrées de la Nou­velle-Orléans. Pen­dant plus d’un an\, l’esprit « NOLA »(*) va souf­fler sur la Com­mu­nau­té de com­munes avec ses mélo­dies\, son sens de la fête\, sa convi­via­li­té et ses fameuses parades ! Le résul­tat final sera un grand bras­sage cultu­rel et par­ti­ci­pa­tif qui don­ne­ra lieu à deux déam­bu­la­tions musi­cales et cho­ré­gra­phiques orches­trées par les artistes d’Engrenage[s] autour de leur créa­tion Red Line Cros­sers\, et tous·tes les habitant·e·​s par­ti­ci­pant au pro­jet.  \n  \n 
URL:https://www.engrenages.eu/en/evenement/gospel-new-orleans-2-2-2-2-2-2-2/
LOCATION:Espace Bel Air\, Rue des Rochers\, Saint-Aubin-du-Cormier\, 35140\, France
ATTACH;FMTTYPE=image/jpeg:https://www.engrenages.eu/wp-content/uploads/2018/07/136A4786-c-nicolas_joubard-1200x800.jpg
GEO:48.2559276;-1.3889816
X-APPLE-STRUCTURED-LOCATION;VALUE=URI;X-ADDRESS=Espace Bel Air Rue des Rochers Saint-Aubin-du-Cormier 35140 France;X-APPLE-RADIUS=500;X-TITLE=Rue des Rochers:geo:-1.3889816,48.2559276
END:VEVENT
BEGIN:VEVENT
DTSTART;VALUE=DATE:20190228
DTEND;VALUE=DATE:20190403
DTSTAMP:20260425T011554
CREATED:20181106T134253Z
LAST-MODIFIED:20230110T154201Z
UID:10000281-1551312000-1554249599@www.engrenages.eu
SUMMARY:Voyage de recherche et de collectes de danse
DESCRIPTION:Entre l’automne 2018 et le prin­temps 2019\, Marie Hou­din va mener 3 voyages de recherche\, de col­lectes vidéos et sonores et d’échanges cho­ré­gra­phiques. Cuba\, le Séné­gal et enfin la Nou­velle-Orléans. Trois ter­ri­toires liés par une his­toire com­mune et des allers retours. Dans les­quels la danse cir­cule et\, dans sa fonc­tion sociale\, est en vie\, sem­blant même influen­cer sur la vie. \nMarie Hou­din\, accom­pa­gnée par moments d’un réa­li­sa­teur vidéo (Julien Durand) ou d’un caméraman/preneur de son (Kris Nol­ly)\, par­ti­ra en quête des moments de vie où la danse et la musique ras­semblent dehors\, dans les clubs\, dans les écoles\, dans les cours. Ren­con­trer des artistes\, mais aus­si toute sorte de gens\, de toutes géné­ra­tions \, mais aus­si des cher­cheurs\, et des pas­seurs de cultures . Et aller à la ren­contre des his­toires qui sont liées aux danses et aux musiques. Ces voyages\, où la ren­contre et la rela­tion sont au cœur\, seront ain­si éga­le­ment l’occasion de déve­lop­per des temps de ren­contres\, d’échanges\, de créa­tion et de per­for­mances\, avec des publics.
URL:https://www.engrenages.eu/en/evenement/voyage-de-recherche-et-de-collectes-de-danse-2-2/
LOCATION:Nouvelle-Orléans\, Nouvelle-Orléans\, USA
ATTACH;FMTTYPE=image/jpeg:https://www.engrenages.eu/wp-content/uploads/2018/01/IMG-20180106-WA0013.jpg
END:VEVENT
END:VCALENDAR