BEGIN:VCALENDAR
VERSION:2.0
PRODID:-//Engrenage[s] - ECPv6.10.2//NONSGML v1.0//EN
CALSCALE:GREGORIAN
METHOD:PUBLISH
X-WR-CALNAME:Engrenage[s]
X-ORIGINAL-URL:https://www.engrenages.eu/en/
X-WR-CALDESC:Events for Engrenage[s]
REFRESH-INTERVAL;VALUE=DURATION:PT1H
X-Robots-Tag:noindex
X-PUBLISHED-TTL:PT1H
BEGIN:VTIMEZONE
TZID:Europe/Paris
BEGIN:DAYLIGHT
TZOFFSETFROM:+0100
TZOFFSETTO:+0200
TZNAME:CEST
DTSTART:20180325T010000
END:DAYLIGHT
BEGIN:STANDARD
TZOFFSETFROM:+0200
TZOFFSETTO:+0100
TZNAME:CET
DTSTART:20181028T010000
END:STANDARD
END:VTIMEZONE
BEGIN:VEVENT
DTSTART;VALUE=DATE:20181105
DTEND;VALUE=DATE:20181204
DTSTAMP:20260424T235356
CREATED:20181106T132410Z
LAST-MODIFIED:20230110T154206Z
UID:10000271-1541376000-1543881599@www.engrenages.eu
SUMMARY:Voyage de recherche et de collectes de danse
DESCRIPTION:Entre l’automne 2018 et le prin­temps 2019\, Marie Hou­din va mener 3 voyages de recherche\, de col­lectes vidéos et sonores et d’échanges cho­ré­gra­phiques. Cuba\, le Séné­gal et enfin la Nou­velle-Orléans. Trois ter­ri­toires liés par une his­toire com­mune et des allers retours. Dans les­quels la danse cir­cule et\, dans sa fonc­tion sociale\, est en vie\, sem­blant même influen­cer sur la vie. \nMarie Hou­din\, accom­pa­gnée par moments d’un réa­li­sa­teur vidéo (Julien Durand) ou d’un caméraman/preneur de son (Kris Nol­ly)\, par­ti­ra en quête des moments de vie où la danse et la musique ras­semblent dehors\, dans les clubs\, dans les écoles\, dans les cours. Ren­con­trer des artistes\, mais aus­si toute sorte de gens\, de toutes géné­ra­tions \, mais aus­si des cher­cheurs\, et des pas­seurs de cultures . Et aller à la ren­contre des his­toires qui sont liées aux danses et aux musiques. Ces voyages\, où la ren­contre et la rela­tion sont au cœur\, seront ain­si éga­le­ment l’occasion de déve­lop­per des temps de ren­contres\, d’échanges\, de créa­tion et de per­for­mances\, avec des publics.
URL:https://www.engrenages.eu/en/evenement/voyage-de-recherche-et-de-collectes-de-danse/
LOCATION:Santiago de Cuba\, Santiago de Cuba\, Cuba
ATTACH;FMTTYPE=image/jpeg:https://www.engrenages.eu/wp-content/uploads/2018/01/IMG-20180106-WA0013.jpg
END:VEVENT
BEGIN:VEVENT
DTSTART;TZID=Europe/Paris:20181208T170000
DTEND;TZID=Europe/Paris:20181208T170000
DTSTAMP:20260424T235357
CREATED:20181119T151303Z
LAST-MODIFIED:20230110T154206Z
UID:10000299-1544288400-1544288400@www.engrenages.eu
SUMMARY:Afro Groove Time
DESCRIPTION:Les par­rains des styles funk\, James Brown\, et afro­beat\, Fela Kuti\, ont durant les années 70\, de chaque côté de l’atlantique\, déve­lop­pé des uni­vers musi­caux où le groove et la transe ras­semblent les corps et les esprits sur fond de reven­di­ca­tions sociales et de désir de jus­tice. Le funk puise dans l’énergie afro et l’afrobeat emprunte quant à lui lar­ge­ment au funk. Le bal Afro Groove Time a pour voca­tion d’ouvrir une fenêtre sur la créa­tion musi­cale afro-funk des années 70 à nos jours en pro­po­sant un espace de lâcher-prise et d’expérimentation par la danse. Fran­co (danse hip hop funk­style) et Élo­die (danse afro) pro­posent le bal Afro Groove Time\, un espace d’expression dans une ambiance cha­leu­reuse !
URL:https://www.engrenages.eu/en/evenement/bal-afro-groove-time-3/
LOCATION:Lanester\, Lanester\, France
ATTACH;FMTTYPE=image/jpeg:https://www.engrenages.eu/wp-content/uploads/2018/02/IMG_3741Soireî-üeTransat_Aout2017_cs.jpg
END:VEVENT
BEGIN:VEVENT
DTSTART;TZID=Europe/Paris:20181209T150000
DTEND;TZID=Europe/Paris:20181209T150000
DTSTAMP:20260424T235357
CREATED:20181017T130442Z
LAST-MODIFIED:20230110T154205Z
UID:10000258-1544367600-1544367600@www.engrenages.eu
SUMMARY:Atelier danse - We Are New Orleans
DESCRIPTION:WE ARE NEW ORLEANS\nCette rési­dence-mis­sion finan­cée par le Dépar­te­ment d’Ille-et-Vilaine et les par­te­naires du ter­ri­toire\, est une for­mi­dable occa­sion pour les habitant·e·s de par­ti­ci­per à un pro­jet artis­tique riche\, fes­tif et convi­vial autour des musiques cui­vrées de la Nou­velle-Orléans. Pen­dant plus d’un an\, l’esprit « NOLA »(*) va souf­fler sur la Com­mu­nau­té de com­munes avec ses mélo­dies\, son sens de la fête\, sa convi­via­li­té et ses fameuses parades ! Le résul­tat final sera un grand bras­sage cultu­rel et par­ti­ci­pa­tif qui don­ne­ra lieu à deux déam­bu­la­tions musi­cales et cho­ré­gra­phiques orches­trées par les artistes d’Engrenage[s] autour de leur créa­tion Red Line Cros­sers\, et tous·tes les habitant·e·​s par­ti­ci­pant au pro­jet.  \n  \n 
URL:https://www.engrenages.eu/en/evenement/gospel-new-orleans-2/
LOCATION:Salle Polyvalente\, Livré-sur-Changeon\, 35450\, France
ATTACH;FMTTYPE=image/jpeg:https://www.engrenages.eu/wp-content/uploads/2018/07/136A4786-c-nicolas_joubard-1200x800.jpg
END:VEVENT
BEGIN:VEVENT
DTSTART;TZID=Europe/Paris:20181211T210000
DTEND;TZID=Europe/Paris:20181211T210000
DTSTAMP:20260424T235357
CREATED:20181107T150532Z
LAST-MODIFIED:20230110T154205Z
UID:10000295-1544562000-1544562000@www.engrenages.eu
SUMMARY:OOZBAND
DESCRIPTION:Fan­fare ren­naise déjan­tée com­po­sée de huit aven­tu­riers sonores\, le OOZ BAND ne joue que des com­po­si­tions ori­gi­nales\, au croi­se­ment des musiques afro-amé­ri­caines (funk\, jazz\, hip hop\, groove\, new orleans…) avec des cho­ré­gra­phies venues d’un autre monde et des cos­tumes sor­tant tout droit d’un film de Stan­ley Kubrick. Avec une for­mule adap­table sur scène comme en rue\, le OOZ BAND peut se pro­duire sur tous les types de sol\, pour tous types d’événements\, par­tout en France ou ailleurs\, pour votre plus grand bon­heur ! Plu­sieurs for­mules sont pos­sibles et ajus­tables en fonc­tion de votre demande.
URL:https://www.engrenages.eu/en/evenement/oozband-2-2-3/
LOCATION:Run Ar Puns\, Chateaulin\, France
ATTACH;FMTTYPE=image/jpeg:https://www.engrenages.eu/wp-content/uploads/2023/01/default.jpg
END:VEVENT
BEGIN:VEVENT
DTSTART;TZID=Europe/Paris:20181215T160000
DTEND;TZID=Europe/Paris:20181215T160000
DTSTAMP:20260424T235357
CREATED:20181108T162750Z
LAST-MODIFIED:20230110T154205Z
UID:10000297-1544889600-1544889600@www.engrenages.eu
SUMMARY:Démonstration chorégraphique autour de Unexpected
DESCRIPTION:Unex­pec­ted. Impré­vue. Impré­vi­sible. Impro­vi­sée. Comme l’est la danse. Comme l’est la musique. Comme l’est la vie. \nAu cœur d’un cercle de spec­ta­teurs\, une dan­seuse et un musi­cien se racontent l’un à l’autre\, et l’un par l’autre. Qui de la musique ou de la danse raconte l’autre\, ou raconte à l’autre ? A quel corps appar­tient ce râle de résis­tance ? Qui des­sine les fron­tières ? Au cœur d’une com­mu­nau­té\, où on est tour à tour le frère\, la sœur\, le père\, la mère\, l’ami\, le voi­sin\, deux incon­nus sont liés l’un à l’autre\, et aux autres\, par l’histoire de leurs terres. Au cœur du cercle où tout cir­cule\, l’organique domine. Souffle\, pul­sa­tion\, sur­saut\, ondu­la­tion\, bat­te­ment\, vie. Terre et ciel. Dans la nais­sance et dans la mort\, toutes les tra­di­tions convergent. De tout temps et par­tout dans le monde\, la danse est au cœur de la vie et la dimen­sion sociale est au cœur de la danse.
URL:https://www.engrenages.eu/en/evenement/oozband-2-2-2-2/
LOCATION:Médiathèque L’Autre Lieu\, 8 rue du Docteur Wagner\, Le Rheu\, 35650\, France
ATTACH;FMTTYPE=image/jpeg:https://www.engrenages.eu/wp-content/uploads/2018/07/Solo-Unexpected-Crédit-Clément-Harpillard.jpg
GEO:48.0988216;-1.7966039
X-APPLE-STRUCTURED-LOCATION;VALUE=URI;X-ADDRESS=Médiathèque L’Autre Lieu 8 rue du Docteur Wagner Le Rheu 35650 France;X-APPLE-RADIUS=500;X-TITLE=8 rue du Docteur Wagner:geo:-1.7966039,48.0988216
END:VEVENT
BEGIN:VEVENT
DTSTART;TZID=Europe/Paris:20181219T150000
DTEND;TZID=Europe/Paris:20181219T150000
DTSTAMP:20260424T235357
CREATED:20180528T130738Z
LAST-MODIFIED:20230110T154205Z
UID:10000205-1545231600-1545231600@www.engrenages.eu
SUMMARY:FLOK
DESCRIPTION:FLOK tient de l’averse de sons et d’images\, tan­tôt douce\, tan­tôt tem­pé­tueuse. Et tou­jours poé­tique. Un écha­fau­dage\, des toiles\, quelques che­va­lets\, huit musi­ciens et un peintre pour un spec­tacle musi­cal qui imprègne les yeux et les oreilles. Un groove de maca­dam qui fait réson­ner le pavé de ses com­po­si­tions ori­gi­nales mêlant jazz\, funk\, New Orleans. Des spec­tacles qui font se dan­di­ner pos­té­rieurs et zygo­ma­tiques. \nAprès dix ans d’existence\, plus de 350 concerts en France et en Europe\, et trois albums\, les huit musi­ciens des Fonk’Farons ne se lassent pas de sillon­ner les rues ! Leur pro­jet\, en cours d’écriture\, s’articule autour de nou­velles com­po­si­tions (env. 25)\, et d’une nou­velle approche du live pour la scène et pour la rue. Objec­tif : un nou­veau spec­tacle et un nou­vel album au prin­temps 2018. La machine à idées est en route : elle s’alimente\, pêle-mêle\, de l’envie de renou­ve­ler une pro­duc­tion musi­cale et scé­nique\, d’une matu­ri­té qui donne de nou­velles ailes\, et d’une réflexion sur l’identité même du groupe : qu’est-ce qui fait que les Fonk’Farons ne sont pas tout à fait une fan­fare comme les autres ?
URL:https://www.engrenages.eu/en/evenement/flok-2-3/
LOCATION:Bleu Pluriel\, 23 Rue Marcel Rault\, Trégueux\, 22950\, France
ATTACH;FMTTYPE=image/jpeg:https://www.engrenages.eu/wp-content/uploads/2018/04/FLOK.jpg
GEO:48.48822;-2.739673
X-APPLE-STRUCTURED-LOCATION;VALUE=URI;X-ADDRESS=Bleu Pluriel 23 Rue Marcel Rault Trégueux 22950 France;X-APPLE-RADIUS=500;X-TITLE=23 Rue Marcel Rault:geo:-2.739673,48.48822
END:VEVENT
BEGIN:VEVENT
DTSTART;TZID=Europe/Paris:20181222T143000
DTEND;TZID=Europe/Paris:20181222T143000
DTSTAMP:20260424T235357
CREATED:20181019T125014Z
LAST-MODIFIED:20230110T154205Z
UID:10000259-1545489000-1545489000@www.engrenages.eu
SUMMARY:Concert Gospel New Orleans avec le Choeur Soul Spirit dirigé par Julia Chesnin
DESCRIPTION:WE ARE NEW ORLEANS\nCette rési­dence-mis­sion finan­cée par le Dépar­te­ment d’Ille-et-Vilaine et les par­te­naires du ter­ri­toire\, est une for­mi­dable occa­sion pour les habitant·e·s de par­ti­ci­per à un pro­jet artis­tique riche\, fes­tif et convi­vial autour des musiques cui­vrées de la Nou­velle-Orléans. Pen­dant plus d’un an\, l’esprit « NOLA »(*) va souf­fler sur la Com­mu­nau­té de com­munes avec ses mélo­dies\, son sens de la fête\, sa convi­via­li­té et ses fameuses parades ! Le résul­tat final sera un grand bras­sage cultu­rel et par­ti­ci­pa­tif qui don­ne­ra lieu à deux déam­bu­la­tions musi­cales et cho­ré­gra­phiques orches­trées par les artistes d’Engrenage[s] autour de leur créa­tion Red Line Cros­sers\, et tous·tes les habitant·e·​s par­ti­ci­pant au pro­jet.  \n  \n 
URL:https://www.engrenages.eu/en/evenement/gospel-new-orleans-3/
LOCATION:Maison de retraite\, Liffré\, 35340\, France
ATTACH;FMTTYPE=image/jpeg:https://www.engrenages.eu/wp-content/uploads/2018/07/we-are-new-orleans.jpg
END:VEVENT
BEGIN:VEVENT
DTSTART;TZID=Europe/Paris:20181222T161500
DTEND;TZID=Europe/Paris:20181222T161500
DTSTAMP:20260424T235357
CREATED:20181012T153947Z
LAST-MODIFIED:20230110T154204Z
UID:10000042-1545495300-1545495300@www.engrenages.eu
SUMMARY:Concert Gospel New Orleans avec le Choeur Soul Spirit dirigé par Julia Chesnin
DESCRIPTION:WE ARE NEW ORLEANS\nCette rési­dence-mis­sion finan­cée par le Dépar­te­ment d’Ille-et-Vilaine et les par­te­naires du ter­ri­toire\, est une for­mi­dable occa­sion pour les habitant·e·s de par­ti­ci­per à un pro­jet artis­tique riche\, fes­tif et convi­vial autour des musiques cui­vrées de la Nou­velle-Orléans. Pen­dant plus d’un an\, l’esprit « NOLA »(*) va souf­fler sur la Com­mu­nau­té de com­munes avec ses mélo­dies\, son sens de la fête\, sa convi­via­li­té et ses fameuses parades ! Le résul­tat final sera un grand bras­sage cultu­rel et par­ti­ci­pa­tif qui don­ne­ra lieu à deux déam­bu­la­tions musi­cales et cho­ré­gra­phiques orches­trées par les artistes d’Engrenage[s] autour de leur créa­tion Red Line Cros­sers\, et tous·tes les habitant·e·​s par­ti­ci­pant au pro­jet.
URL:https://www.engrenages.eu/en/evenement/gospel-new-orleans/
LOCATION:Maison de retraite\, 29 rue du Stade\, Saint-Aubin-du-Cormier\, 35140\, France
ATTACH;FMTTYPE=image/jpeg:https://www.engrenages.eu/wp-content/uploads/2018/07/we-are-new-orleans.jpg
GEO:48.2572844;-1.4042188
X-APPLE-STRUCTURED-LOCATION;VALUE=URI;X-ADDRESS=Maison de retraite 29 rue du Stade Saint-Aubin-du-Cormier 35140 France;X-APPLE-RADIUS=500;X-TITLE=29 rue du Stade:geo:-1.4042188,48.2572844
END:VEVENT
BEGIN:VEVENT
DTSTART;TZID=Europe/Paris:20181222T180000
DTEND;TZID=Europe/Paris:20181222T180000
DTSTAMP:20260424T235357
CREATED:20181012T170643Z
LAST-MODIFIED:20230110T154204Z
UID:10000034-1545501600-1545501600@www.engrenages.eu
SUMMARY:Yoann Minkoff & Kris Nolly
DESCRIPTION:Une musique aérienne\, où la gui­tare\, la voix et le beat­box se croisent dans un per­pé­tuel dia­logue. \nLe Fran­co-Bri­tan­nique\, habi­tué des for­ma­tions élec­triques (City Kay\, Joe Pil­grim & the Lige­rians…) livre son pro­jet solo dans lequel se dévoile un Blues per­son­nel et poé­tique tein­té de Man­dingue\, de Pop anglaise et de Folk Nord-amé­ri­cain. Yoann Min­koff est accom­pa­gné en live par le Beat­boxer Kris Nol­ly (Ka Jazz\, Home­coo­king…) avec lequel une com­pli­ci­té musi­cale s’est nouée. Aux cou­leurs riches de la gui­tare et à la voix cha­leu­reuse s’ajoute désor­mais une ryth­mique puis­sante et sub­tile entiè­re­ment exé­cu­tée à la bouche. Le duo oscille entre com­po­si­tions tirées de l’album « Black & White Blues » mor­ceaux inédits et reprises allant de Skip James à Alvin Young­blood hart. Remar­qués en France lors de leurs pas­sages à la Bel­le­vil­loise (Paris) au fes­ti­val Blues de Beau­vais ou encore à l’UBU (Rennes)\, Yoann & Kris ont éga­le­ment tour­né en Angle­terre\, aux Emi­rats Arabes et en Afrique du Sud et ont col­la­bo­ré avec d’autres artistes aux uni­vers aus­si riches que variés.
URL:https://www.engrenages.eu/en/evenement/yoann-minkoff-kris-nolly-3-4-3-2-3-2/
LOCATION:Auray\, Auray\, France
ATTACH;FMTTYPE=image/jpeg:https://www.engrenages.eu/wp-content/uploads/2018/01/yoann-minkoff-kris-nolly-elodie-le-gall.jpg
END:VEVENT
END:VCALENDAR