BEGIN:VCALENDAR
VERSION:2.0
PRODID:-//Engrenage[s] - ECPv6.10.2//NONSGML v1.0//EN
CALSCALE:GREGORIAN
METHOD:PUBLISH
X-ORIGINAL-URL:https://www.engrenages.eu/en/
X-WR-CALDESC:Events for Engrenage[s]
REFRESH-INTERVAL;VALUE=DURATION:PT1H
X-Robots-Tag:noindex
X-PUBLISHED-TTL:PT1H
BEGIN:VTIMEZONE
TZID:Europe/Paris
BEGIN:DAYLIGHT
TZOFFSETFROM:+0100
TZOFFSETTO:+0200
TZNAME:CEST
DTSTART:20180325T010000
END:DAYLIGHT
BEGIN:STANDARD
TZOFFSETFROM:+0200
TZOFFSETTO:+0100
TZNAME:CET
DTSTART:20181028T010000
END:STANDARD
END:VTIMEZONE
BEGIN:VEVENT
DTSTART;VALUE=DATE:20181105
DTEND;VALUE=DATE:20181204
DTSTAMP:20260424T194255
CREATED:20181106T132410Z
LAST-MODIFIED:20230110T154206Z
UID:10000271-1541376000-1543881599@www.engrenages.eu
SUMMARY:Voyage de recherche et de collectes de danse
DESCRIPTION:Entre l’automne 2018 et le prin­temps 2019\, Marie Hou­din va mener 3 voyages de recherche\, de col­lectes vidéos et sonores et d’échanges cho­ré­gra­phiques. Cuba\, le Séné­gal et enfin la Nou­velle-Orléans. Trois ter­ri­toires liés par une his­toire com­mune et des allers retours. Dans les­quels la danse cir­cule et\, dans sa fonc­tion sociale\, est en vie\, sem­blant même influen­cer sur la vie. \nMarie Hou­din\, accom­pa­gnée par moments d’un réa­li­sa­teur vidéo (Julien Durand) ou d’un caméraman/preneur de son (Kris Nol­ly)\, par­ti­ra en quête des moments de vie où la danse et la musique ras­semblent dehors\, dans les clubs\, dans les écoles\, dans les cours. Ren­con­trer des artistes\, mais aus­si toute sorte de gens\, de toutes géné­ra­tions \, mais aus­si des cher­cheurs\, et des pas­seurs de cultures . Et aller à la ren­contre des his­toires qui sont liées aux danses et aux musiques. Ces voyages\, où la ren­contre et la rela­tion sont au cœur\, seront ain­si éga­le­ment l’occasion de déve­lop­per des temps de ren­contres\, d’échanges\, de créa­tion et de per­for­mances\, avec des publics.
URL:https://www.engrenages.eu/en/evenement/voyage-de-recherche-et-de-collectes-de-danse/
LOCATION:Santiago de Cuba\, Santiago de Cuba\, Cuba
ATTACH;FMTTYPE=image/jpeg:https://www.engrenages.eu/wp-content/uploads/2018/01/IMG-20180106-WA0013.jpg
END:VEVENT
BEGIN:VEVENT
DTSTART;TZID=Europe/Paris:20181124T153000
DTEND;TZID=Europe/Paris:20181124T153000
DTSTAMP:20260424T194255
CREATED:20180305T121855Z
LAST-MODIFIED:20230110T154206Z
UID:10000164-1543073400-1543073400@www.engrenages.eu
SUMMARY:FLOK
DESCRIPTION:FLOK tient de l’averse de sons et d’images\, tan­tôt douce\, tan­tôt tem­pé­tueuse. Et tou­jours poé­tique. Un écha­fau­dage\, des toiles\, quelques che­va­lets\, huit musi­ciens et un peintre pour un spec­tacle musi­cal qui imprègne les yeux et les oreilles. Un groove de maca­dam qui fait réson­ner le pavé de ses com­po­si­tions ori­gi­nales mêlant jazz\, funk\, New Orleans. Des spec­tacles qui font se dan­di­ner pos­té­rieurs et zygo­ma­tiques. \nAprès dix ans d’existence\, plus de 350 concerts en France et en Europe\, et trois albums\, les huit musi­ciens des Fonk’Farons ne se lassent pas de sillon­ner les rues ! Leur pro­jet\, en cours d’écriture\, s’articule autour de nou­velles com­po­si­tions (env. 25)\, et d’une nou­velle approche du live pour la scène et pour la rue. Objec­tif : un nou­veau spec­tacle et un nou­vel album au prin­temps 2018. La machine à idées est en route : elle s’alimente\, pêle-mêle\, de l’envie de renou­ve­ler une pro­duc­tion musi­cale et scé­nique\, d’une matu­ri­té qui donne de nou­velles ailes\, et d’une réflexion sur l’identité même du groupe : qu’est-ce qui fait que les Fonk’Farons ne sont pas tout à fait une fan­fare comme les autres ?
URL:https://www.engrenages.eu/en/evenement/flok-2/
LOCATION:Centre Culturel\, Liffré\, 35340\, France
ATTACH;FMTTYPE=image/jpeg:https://www.engrenages.eu/wp-content/uploads/2006/01/photo-presse.jpg
GEO:48.214048;-1.505816
END:VEVENT
BEGIN:VEVENT
DTSTART;TZID=Europe/Paris:20181124T220000
DTEND;TZID=Europe/Paris:20181125T040000
DTSTAMP:20260424T194255
CREATED:20181022T152404Z
LAST-MODIFIED:20230110T154206Z
UID:10000263-1543096800-1543118400@www.engrenages.eu
SUMMARY:Engrenage[s] fête ses 15 ans !
DESCRIPTION:Engrenage[s]\, géné­ra­teur de pro­jets artis­tiques (ancien­ne­ment com­pa­gnie Engre­nage) fête ses 15 ans ! Venez célé­brer avec nous quinze années de créa­tions hip-hop et funk à tra­vers des extraits d’une sélec­tion de nos spec­tacles pour une soi­rée 100% dan­ce­floor. Pour vous engrai­ner : release par­ty de Yoann Min­koff et Kris Nol­ly\, Ooz­band\, Soul N’ Pep­per\, Afro Groove Time\, Bal du Tout-Monde\, Free­style Nola\, dj set avec Dj Fre­shhh\, Dj Deheb\, Dj Mask et notre stu­dio pho­to “La Boîte Noire”. Tous les artistes\, dan­seurs\, musi­ciens et Dj’s d’Engrenage[s] vous assurent une soi­rée métis­sée avec pour mot d’ordre : le groove\, la danse et la sueur ! \n\nGRANDE COLLECTE DES HABITS ET VOUS : COSTUMES VINTAGE\, PERLES RARES & VETEMENTS ROSES EN TOUT GENRE !\nCer­taines pièces de votre garde de robe sont délais­sées ? Sor­tez les du pla­card et offrez leur une seconde vie ! La cos­tu­me­rie Des Habits et Vous renou­velle son stock et lance une col­lecte. Robes\,vestes\,chemises et autres frou­frous vin­tages lui feront le plus grand plai­sir ! Et parce qu’elle voit la vie en rose\, elle accueille­ra bras ouverts tous les vête­ments et acces­soires roses pour sa nou­velle col­lec­tion ! \nInfo pra­tique : A dépo­ser direc­te­ment à l’U­BU le 24 novembre ou au bureau d’Engrenage[s]. \n\n  \n> Billet dis­po­nible ci-des­sous (les billets tarif Sor­tir ! seront dis­po­nibles à par­tir du 26 octobre à l’Of­fice du Tou­risme et au gui­chet des Trans) : \n\nPowe­red by Wee­zevent
URL:https://www.engrenages.eu/en/evenement/engrenages-fete-ses-15-ans/
LOCATION:UBU\, Rennes\, France
ATTACH;FMTTYPE=image/jpeg:https://www.engrenages.eu/wp-content/uploads/2018/10/bandeau-site-facebook.jpg
ORGANIZER;CN="Engrenage[s]":MAILTO:contact@engrenages.eu
END:VEVENT
END:VCALENDAR