BEGIN:VCALENDAR
VERSION:2.0
PRODID:-//Engrenage[s] - ECPv6.10.2//NONSGML v1.0//EN
CALSCALE:GREGORIAN
METHOD:PUBLISH
X-WR-CALNAME:Engrenage[s]
X-ORIGINAL-URL:https://www.engrenages.eu/en/
X-WR-CALDESC:Events for Engrenage[s]
REFRESH-INTERVAL;VALUE=DURATION:PT1H
X-Robots-Tag:noindex
X-PUBLISHED-TTL:PT1H
BEGIN:VTIMEZONE
TZID:Europe/Paris
BEGIN:DAYLIGHT
TZOFFSETFROM:+0100
TZOFFSETTO:+0200
TZNAME:CEST
DTSTART:20240331T010000
END:DAYLIGHT
BEGIN:STANDARD
TZOFFSETFROM:+0200
TZOFFSETTO:+0100
TZNAME:CET
DTSTART:20241027T010000
END:STANDARD
BEGIN:DAYLIGHT
TZOFFSETFROM:+0100
TZOFFSETTO:+0200
TZNAME:CEST
DTSTART:20250330T010000
END:DAYLIGHT
BEGIN:STANDARD
TZOFFSETFROM:+0200
TZOFFSETTO:+0100
TZNAME:CET
DTSTART:20251026T010000
END:STANDARD
END:VTIMEZONE
BEGIN:VEVENT
DTSTART;TZID=Europe/Paris:20241117T163000
DTEND;TZID=Europe/Paris:20241117T180000
DTSTAMP:20260424T193724
CREATED:20240926T144112Z
LAST-MODIFIED:20240926T144112Z
UID:10000809-1731861000-1731866400@www.engrenages.eu
SUMMARY:Kinyonga - Rennes
DESCRIPTION:Dans le cadre de Jazz à l’Ouest
URL:https://www.engrenages.eu/en/evenement/kinyonga-rennes/
LOCATION:MJC Bréquigny\, 15 Avenue Georges Graff\, Rennes\, 35200\, France
ATTACH;FMTTYPE=image/jpeg:https://www.engrenages.eu/wp-content/uploads/2024/03/DSC00200-scaled.jpg
GEO:48.0836949;-1.6917303
X-APPLE-STRUCTURED-LOCATION;VALUE=URI;X-ADDRESS=MJC Bréquigny 15 Avenue Georges Graff Rennes 35200 France;X-APPLE-RADIUS=500;X-TITLE=15 Avenue Georges Graff:geo:-1.6917303,48.0836949
END:VEVENT
BEGIN:VEVENT
DTSTART;TZID=Europe/Paris:20241122T154500
DTEND;TZID=Europe/Paris:20241122T180000
DTSTAMP:20260424T193724
CREATED:20240926T134707Z
LAST-MODIFIED:20241121T153533Z
UID:10000808-1732290300-1732298400@www.engrenages.eu
SUMMARY:Buzz'in Brass Syndicate - Rennes
DESCRIPTION:Inau­gu­ra­tion du le Jar­din de l’Eu­rope
URL:https://www.engrenages.eu/en/evenement/buzzin-brass-syndicate-rennes/
LOCATION:Vendée
ATTACH;FMTTYPE=image/png:https://www.engrenages.eu/wp-content/uploads/2024/09/Capture-decran-groupe-Copie.png
END:VEVENT
BEGIN:VEVENT
DTSTART;TZID=Europe/Paris:20241214T174000
DTEND;TZID=Europe/Paris:20241214T193000
DTSTAMP:20260424T193724
CREATED:20241204T134702Z
LAST-MODIFIED:20241204T142507Z
UID:10000822-1734198000-1734204600@www.engrenages.eu
SUMMARY:MARMOOZ - LANNION
DESCRIPTION:Inau­gu­ra­tion du Mar­ché de Noël – Place du Gal Leclerc\ndéam­bu­la­tion de 17h40\, flash­mob vers 18h10 \nhttps://www.youtube.com/watch?v=yLFmndXoz3g
URL:https://www.engrenages.eu/en/evenement/oozband-lannion/
LOCATION:Lannion\, France
ATTACH;FMTTYPE=image/jpeg:https://www.engrenages.eu/wp-content/uploads/2024/02/OOZ-BAND-c-Foto-Hauer-2-scaled.jpg
END:VEVENT
BEGIN:VEVENT
DTSTART;TZID=Europe/Paris:20241215T153000
DTEND;TZID=Europe/Paris:20241215T173000
DTSTAMP:20260424T193724
CREATED:20241209T134348Z
LAST-MODIFIED:20241209T134348Z
UID:10000827-1734276600-1734283800@www.engrenages.eu
SUMMARY:Buzz'in Brass Syndicate - Morlaix
DESCRIPTION:
URL:https://www.engrenages.eu/en/evenement/buzzin-brass-syndicate-morlaix/
LOCATION:Vendée
ATTACH;FMTTYPE=image/png:https://www.engrenages.eu/wp-content/uploads/2024/09/Capture-decran-groupe-Copie.png
END:VEVENT
BEGIN:VEVENT
DTSTART;VALUE=DATE:20241219
DTEND;VALUE=DATE:20241220
DTSTAMP:20260424T193724
CREATED:20241204T142910Z
LAST-MODIFIED:20241204T154401Z
UID:10000824-1734566400-1734652799@www.engrenages.eu
SUMMARY:BATTLE DE MAUREPAS - DJ SET HEATFOOL ET FRANCO
DESCRIPTION:infor­ma­tions à venir
URL:https://www.engrenages.eu/en/evenement/djset_heatfool_franco/
LOCATION:Maurepas Rennes\, Rennes\, 35000\, France
ATTACH;FMTTYPE=image/jpeg:https://www.engrenages.eu/wp-content/uploads/2024/05/heatfool.png
END:VEVENT
BEGIN:VEVENT
DTSTART;TZID=Europe/Paris:20241219T183000
DTEND;TZID=Europe/Paris:20241219T200000
DTSTAMP:20260424T193724
CREATED:20241204T140346Z
LAST-MODIFIED:20241204T142708Z
UID:10000823-1734633000-1734638400@www.engrenages.eu
SUMMARY:MARMOOZ - LORIENT
DESCRIPTION:Dans le cadre des ani­ma­tions de Noël\nPlace Kerya­do à par­tir de 18h30
URL:https://www.engrenages.eu/en/evenement/oozband-lorient/
LOCATION:Lorient\, France
ATTACH;FMTTYPE=image/png:https://www.engrenages.eu/wp-content/uploads/2024/11/Capture-decran-2024-11-27-123445.png
END:VEVENT
BEGIN:VEVENT
DTSTART;TZID=Europe/Paris:20241221T180000
DTEND;TZID=Europe/Paris:20241221T193000
DTSTAMP:20260424T193724
CREATED:20241018T153757Z
LAST-MODIFIED:20241018T153757Z
UID:10000811-1734804000-1734809400@www.engrenages.eu
SUMMARY:Les Fonk'Farons - Sidewalk - Pornic
DESCRIPTION:Dans le cadre du Vil­lage de Noël \nEspla­nade de la Ria\, Pont du 8 mai 1945 à Por­nic
URL:https://www.engrenages.eu/en/evenement/les-fonkfarons-sidewalk-pornic/
LOCATION:Pornic\, Pornic\, 44210\, France
ATTACH;FMTTYPE=image/jpeg:https://www.engrenages.eu/wp-content/uploads/2024/04/P1030956-scaled.jpg
END:VEVENT
BEGIN:VEVENT
DTSTART;TZID=Europe/Paris:20241228T163000
DTEND;TZID=Europe/Paris:20241228T190000
DTSTAMP:20260424T193724
CREATED:20241018T154231Z
LAST-MODIFIED:20241204T150312Z
UID:10000812-1735403400-1735412400@www.engrenages.eu
SUMMARY:Red Line Crossers - Hommage aux Second Line - Quimper
DESCRIPTION:Dans le cadre de Pas­seurs de Lumiere \n1er pas­sage de 16h30 à 17h15\n2eme pas­sage de 18h15 à 19h \nDans le centre ville
URL:https://www.engrenages.eu/en/evenement/red-line-crossers-hommage-aux-second-line-quimper/
LOCATION:Quimper\, Quimper\, Finistere\, 29000\, France
ATTACH;FMTTYPE=image/jpeg:https://www.engrenages.eu/wp-content/uploads/2023/05/Red-Line-Crossers-saut-Thomas-Guionnet.jpg
GEO:47.9976492;-4.0973449
END:VEVENT
BEGIN:VEVENT
DTSTART;VALUE=DATE:20250119
DTEND;VALUE=DATE:20250120
DTSTAMP:20260424T193724
CREATED:20241204T150939Z
LAST-MODIFIED:20250106T113727Z
UID:10000825-1737244800-1737331199@www.engrenages.eu
SUMMARY:GROOVE TIME + DES HABITS ET VOUS - Vannes (56)
DESCRIPTION:Dans le cadre d’Un Beau Dimanche en Famille\nDédiée aux enfants\, à leurs familles\, à leurs amis\, cette jour­née est l’oc­ca­sion de pas­ser une jour­née joyeuse ensemble\, dans tous les recoins du Palais des Arts.\nAu pro­gramme : ani­ma­tions en cara­vanes\, jeux\, ate­liers\, spec­tacles\, expo­si­tion\, films\, man­gas audio\, espace motri­ci­té\, coin lec­ture\, librai­rie\, goû­ters\, food­trucks\, boum fun­ky… \n 
URL:https://www.engrenages.eu/en/evenement/groovetime-deshabitsetvous-vannes/
LOCATION:Palais des Arts\, Place de Bretagne\, Vannes\, Morbihan\, 56000\, France
ATTACH;FMTTYPE=image/jpeg:https://www.engrenages.eu/wp-content/uploads/2021/12/photo-groove-time-connection.jpeg
GEO:47.6615129;-2.7606218
X-APPLE-STRUCTURED-LOCATION;VALUE=URI;X-ADDRESS=Palais des Arts Place de Bretagne Vannes Morbihan 56000 France;X-APPLE-RADIUS=500;X-TITLE=Place de Bretagne:geo:-2.7606218,47.6615129
END:VEVENT
BEGIN:VEVENT
DTSTART;VALUE=DATE:20250313
DTEND;VALUE=DATE:20250314
DTSTAMP:20260424T193724
CREATED:20250212T080414Z
LAST-MODIFIED:20250212T080414Z
UID:10000834-1741824000-1741910399@www.engrenages.eu
SUMMARY:ARÔME[S] - Sortie de résidence - Ferme de la Harpe - Rennes (35)
DESCRIPTION:infor­ma­tions à venir
URL:https://www.engrenages.eu/en/evenement/aromes-sortie-de-residence-ferme-de-la-harpe-rennes-35/
LOCATION:ferme de la harpe\, Avenue Charles et Raymonde Tillon\, Rennes\, 35000
ATTACH;FMTTYPE=image/jpeg:https://www.engrenages.eu/wp-content/uploads/2023/01/default.jpg
END:VEVENT
BEGIN:VEVENT
DTSTART;TZID=Europe/Paris:20250319T080000
DTEND;TZID=Europe/Paris:20250319T170000
DTSTAMP:20260424T193724
CREATED:20250319T073851Z
LAST-MODIFIED:20250319T073851Z
UID:10000852-1742371200-1742403600@www.engrenages.eu
SUMMARY:Les Fonk'Farons (Sidewalk) - Redon (35)
DESCRIPTION:
URL:https://www.engrenages.eu/en/evenement/les-fonkfarons-sidewalk-redon-35/
LOCATION:Vendée
ATTACH;FMTTYPE=image/png:https://www.engrenages.eu/wp-content/uploads/2024/06/4-1.png
END:VEVENT
BEGIN:VEVENT
DTSTART;TZID=Europe/Paris:20250320T190000
DTEND;TZID=Europe/Paris:20250320T223000
DTSTAMP:20260424T193724
CREATED:20241018T155414Z
LAST-MODIFIED:20241018T155414Z
UID:10000813-1742497200-1742509800@www.engrenages.eu
SUMMARY:Les Fonk'Farons - Sidewalk - Caen
DESCRIPTION:Dans le cade du mil­lé­naire de Caen – A l’ex­té­rieur du Châ­teau de Caen\n7 sets de 20 min entre 19h et 22h30
URL:https://www.engrenages.eu/en/evenement/les-fonkfarons-sidewalk-caen/
LOCATION:Chateau de Caen\, Caen\, Calvados\, 14000\, France
ATTACH;FMTTYPE=image/jpeg:https://www.engrenages.eu/wp-content/uploads/2022/06/Sidewalk-Fonkfarons.jpg
GEO:49.186585;-0.3632897
END:VEVENT
BEGIN:VEVENT
DTSTART;VALUE=DATE:20250322
DTEND;VALUE=DATE:20250323
DTSTAMP:20260424T193724
CREATED:20241204T152220Z
LAST-MODIFIED:20241204T153600Z
UID:10000826-1742601600-1742687999@www.engrenages.eu
SUMMARY:MARMOOZ - Carnaval de Giberville
DESCRIPTION:Infor­ma­tions à venir
URL:https://www.engrenages.eu/en/evenement/oozband_giberville/
LOCATION:Giberville\, Esplanade Raymond Collet\, Giberville\, Calvados\, 14730\, France
ATTACH;FMTTYPE=image/jpeg:https://www.engrenages.eu/wp-content/uploads/2024/02/OOZ-BAND-c-Foto-Hauer-2-scaled.jpg
GEO:49.1817522;-0.2828144
X-APPLE-STRUCTURED-LOCATION;VALUE=URI;X-ADDRESS=Giberville Esplanade Raymond Collet Giberville Calvados 14730 France;X-APPLE-RADIUS=500;X-TITLE=Esplanade Raymond Collet:geo:-0.2828144,49.1817522
END:VEVENT
BEGIN:VEVENT
DTSTART;TZID=Europe/Paris:20250329T183000
DTEND;TZID=Europe/Paris:20250329T203000
DTSTAMP:20260424T193724
CREATED:20250212T080738Z
LAST-MODIFIED:20250319T092834Z
UID:10000835-1743273000-1743280200@www.engrenages.eu
SUMMARY:KINYONGA - Carnaval d'Alençon (61)
DESCRIPTION:Repré­sen­ta­tion sui­vie de Arôme[s]
URL:https://www.engrenages.eu/en/evenement/kinyonga-carnaval-dalencon-61/
LOCATION:Parc Urbain de la Providence\, 13 rue de l'Abrevoir\, Alençon\, 61000
ATTACH;FMTTYPE=image/jpeg:https://www.engrenages.eu/wp-content/uploads/2022/06/Kinyonga.jpg
END:VEVENT
BEGIN:VEVENT
DTSTART;TZID=Europe/Paris:20250329T204000
DTEND;TZID=Europe/Paris:20250329T223000
DTSTAMP:20260424T193724
CREATED:20250319T092731Z
LAST-MODIFIED:20250319T092731Z
UID:10000865-1743280800-1743287400@www.engrenages.eu
SUMMARY:Arôme[s] - Alençon (61)
DESCRIPTION:Dans le cadre du Car­na­val
URL:https://www.engrenages.eu/en/evenement/aromes-alencon-61/
LOCATION:Parc Urbain de la Providence\, 13 rue de l'Abrevoir\, Alençon\, 61000
ATTACH;FMTTYPE=image/webp:https://www.engrenages.eu/wp-content/uploads/2024/09/IMG_0086-scaled.webp
END:VEVENT
BEGIN:VEVENT
DTSTART;VALUE=DATE:20250404
DTEND;VALUE=DATE:20250405
DTSTAMP:20260424T193724
CREATED:20241018T155614Z
LAST-MODIFIED:20241018T155614Z
UID:10000814-1743724800-1743811199@www.engrenages.eu
SUMMARY:MARMOOZ - Guipry Messac
DESCRIPTION:Dans le cadre de Cirque en Fête
URL:https://www.engrenages.eu/en/evenement/marmooz-guipry-messac/
LOCATION:Vendée
ATTACH;FMTTYPE=image/webp:https://www.engrenages.eu/wp-content/uploads/2024/09/Fanfarfelues-2024-Vendredi-108.webp
END:VEVENT
END:VCALENDAR