BEGIN:VCALENDAR
VERSION:2.0
PRODID:-//Engrenage[s] - ECPv6.10.2//NONSGML v1.0//EN
CALSCALE:GREGORIAN
METHOD:PUBLISH
X-ORIGINAL-URL:https://www.engrenages.eu/en/
X-WR-CALDESC:Events for Engrenage[s]
REFRESH-INTERVAL;VALUE=DURATION:PT1H
X-Robots-Tag:noindex
X-PUBLISHED-TTL:PT1H
BEGIN:VTIMEZONE
TZID:Europe/Paris
BEGIN:DAYLIGHT
TZOFFSETFROM:+0100
TZOFFSETTO:+0200
TZNAME:CEST
DTSTART:20220327T010000
END:DAYLIGHT
BEGIN:STANDARD
TZOFFSETFROM:+0200
TZOFFSETTO:+0100
TZNAME:CET
DTSTART:20221030T010000
END:STANDARD
END:VTIMEZONE
BEGIN:VEVENT
DTSTART;TZID=Europe/Paris:20220513T100000
DTEND;TZID=Europe/Paris:20220513T123000
DTSTAMP:20260423T002511
CREATED:20220310T131428Z
LAST-MODIFIED:20230110T153957Z
UID:10000280-1652436000-1652445000@www.engrenages.eu
SUMMARY:COMMUNAUTÉ - actions culturelles - Collège Échange
DESCRIPTION:Actions cultu­relles en danse avec les élèves du col­lège Échange lors de leur cours d’EPS avec Fran­co et Elo­die Beau­det\, cho­ré­graphes de COMMUNAUTÉ.\nAu pro­gramme ini­tia­tion au hip-hip\, au pop­ping\, au top rock (les pas de pré­pa­ra­tion du Break­dance) et échange sur le thème de « com­mu­nau­té ».\nAvec le sou­tien du Conseil Dépar­te­men­tal d’Ille et Vilaine. \n\n\n\nQue signi­fie « la com­mu­nau­té »\, que repré­sente t‑elle ? Un sou­tien ? un espoir ? un dan­ger… tout à la fois ? Pour les dan­seurs\, l’enjeu de cette créa­tion est de s’ impré­gner du thème\, d’en déga­ger des idées\, de cher­cher à faire res­sor­tir son propre vécu\, livrer son res­sen­ti et écrire ensemble une his­toire de la com­mu­nau­té.\n\n\n\n 
URL:https://www.engrenages.eu/en/evenement/communaute-actions-culturelles-college-echange/2022-05-13/
ATTACH;FMTTYPE=image/jpeg:https://www.engrenages.eu/wp-content/uploads/2022/03/IMG_4625-scaled.jpg
END:VEVENT
END:VCALENDAR