BEGIN:VCALENDAR
VERSION:2.0
PRODID:-//Engrenage[s] - ECPv6.10.2//NONSGML v1.0//EN
CALSCALE:GREGORIAN
METHOD:PUBLISH
X-WR-CALNAME:Engrenage[s]
X-ORIGINAL-URL:https://www.engrenages.eu/en/
X-WR-CALDESC:Events for Engrenage[s]
REFRESH-INTERVAL;VALUE=DURATION:PT1H
X-Robots-Tag:noindex
X-PUBLISHED-TTL:PT1H
BEGIN:VTIMEZONE
TZID:Europe/Paris
BEGIN:DAYLIGHT
TZOFFSETFROM:+0100
TZOFFSETTO:+0200
TZNAME:CEST
DTSTART:20230326T010000
END:DAYLIGHT
BEGIN:STANDARD
TZOFFSETFROM:+0200
TZOFFSETTO:+0100
TZNAME:CET
DTSTART:20231029T010000
END:STANDARD
END:VTIMEZONE
BEGIN:VEVENT
DTSTART;TZID=Europe/Paris:20231222T181500
DTEND;TZID=Europe/Paris:20231222T203000
DTSTAMP:20260423T161700
CREATED:20231128T110213Z
LAST-MODIFIED:20231128T110213Z
UID:10000743-1703268900-1703277000@www.engrenages.eu
SUMMARY:SIDEWALK PAR LES FON'K FARONS - MORLAIX (29)
DESCRIPTION:Fête de fin d’an­née à Mor­laix
URL:https://www.engrenages.eu/en/evenement/sidewalk-par-les-fonk-farons-morlaix-29/
LOCATION:Centre ville de Morlaix\, Morlaix\, Finistere\, 29600\, France
ATTACH;FMTTYPE=image/jpeg:https://www.engrenages.eu/wp-content/uploads/2023/10/P1030966-scaled.jpg
GEO:48.577613;-3.828228
END:VEVENT
END:VCALENDAR