BEGIN:VCALENDAR
VERSION:2.0
PRODID:-//Engrenage[s] - ECPv6.10.2//NONSGML v1.0//EN
CALSCALE:GREGORIAN
METHOD:PUBLISH
X-WR-CALNAME:Engrenage[s]
X-ORIGINAL-URL:https://www.engrenages.eu/en/
X-WR-CALDESC:Events for Engrenage[s]
REFRESH-INTERVAL;VALUE=DURATION:PT1H
X-Robots-Tag:noindex
X-PUBLISHED-TTL:PT1H
BEGIN:VTIMEZONE
TZID:Europe/Paris
BEGIN:DAYLIGHT
TZOFFSETFROM:+0100
TZOFFSETTO:+0200
TZNAME:CEST
DTSTART:20230326T010000
END:DAYLIGHT
BEGIN:STANDARD
TZOFFSETFROM:+0200
TZOFFSETTO:+0100
TZNAME:CET
DTSTART:20231029T010000
END:STANDARD
END:VTIMEZONE
BEGIN:VEVENT
DTSTART;TZID=Europe/Paris:20231219T080000
DTEND;TZID=Europe/Paris:20231219T170000
DTSTAMP:20260422T015459
CREATED:20231219T155131Z
LAST-MODIFIED:20231219T155131Z
UID:10000750-1702972800-1703005200@www.engrenages.eu
SUMMARY:OOZ BAND - OUVERTURE DE SAISON - VILLE DE HAM
DESCRIPTION:Infor­ma­tions à venir
URL:https://www.engrenages.eu/en/evenement/ooz-band-ouverture-de-saison-ville-de-ham/
ATTACH;FMTTYPE=image/jpeg:https://www.engrenages.eu/wp-content/uploads/2018/09/OOZ-Band-210731-026-Oozieme-Act-www.foto-hauer.at_-scaled.jpg
END:VEVENT
BEGIN:VEVENT
DTSTART;TZID=Europe/Paris:20231219T153000
DTEND;TZID=Europe/Paris:20231219T170000
DTSTAMP:20260422T015459
CREATED:20231219T151410Z
LAST-MODIFIED:20231219T151410Z
UID:10000746-1702999800-1703005200@www.engrenages.eu
SUMMARY:Fonk'Farons - Rennes
DESCRIPTION:Infor­ma­tions à venir
URL:https://www.engrenages.eu/en/evenement/fonkfarons-rennes/
LOCATION:Rennes\, Rennes\, 35000\, France
ATTACH;FMTTYPE=image/jpeg:https://www.engrenages.eu/wp-content/uploads/2023/01/default.jpg
GEO:46.227638;2.213749
END:VEVENT
END:VCALENDAR