BEGIN:VCALENDAR
VERSION:2.0
PRODID:-//Engrenage[s] - ECPv6.10.2//NONSGML v1.0//EN
CALSCALE:GREGORIAN
METHOD:PUBLISH
X-WR-CALNAME:Engrenage[s]
X-ORIGINAL-URL:https://www.engrenages.eu/en/
X-WR-CALDESC:Events for Engrenage[s]
REFRESH-INTERVAL;VALUE=DURATION:PT1H
X-Robots-Tag:noindex
X-PUBLISHED-TTL:PT1H
BEGIN:VTIMEZONE
TZID:Europe/Paris
BEGIN:DAYLIGHT
TZOFFSETFROM:+0100
TZOFFSETTO:+0200
TZNAME:CEST
DTSTART:20230326T010000
END:DAYLIGHT
BEGIN:STANDARD
TZOFFSETFROM:+0200
TZOFFSETTO:+0100
TZNAME:CET
DTSTART:20231029T010000
END:STANDARD
END:VTIMEZONE
BEGIN:VEVENT
DTSTART;TZID=Europe/Paris:20231216T163000
DTEND;TZID=Europe/Paris:20231216T191500
DTSTAMP:20260422T015452
CREATED:20231103T154220Z
LAST-MODIFIED:20231114T134128Z
UID:10000734-1702744200-1702754100@www.engrenages.eu
SUMMARY:Ooz Band - Fête de Noël - Notre Dame de Monts (85164)
DESCRIPTION:16 décembre 2023 à 16h30 et 19h15\, à Mai­rie de Notre\nDame de Monts\, 4 rue de la barre\, 85690 NOTRE DAME DE MONTS \n- Évè­ne­ment gra­tuit -
URL:https://www.engrenages.eu/en/evenement/ooz-band-festivites-de-noel-saint-malo-35-2/
LOCATION:Notre-Dame-de-Monts\, Notre-Dame-de-Monts\, 85690\, France
ATTACH;FMTTYPE=image/jpeg:https://www.engrenages.eu/wp-content/uploads/2023/01/OOZ-BAND-c-Foto-Hauer-2-scaled.jpg
GEO:46.83089;-2.1445
END:VEVENT
END:VCALENDAR