BEGIN:VCALENDAR
VERSION:2.0
PRODID:-//Engrenage[s] - ECPv6.10.2//NONSGML v1.0//EN
CALSCALE:GREGORIAN
METHOD:PUBLISH
X-ORIGINAL-URL:https://www.engrenages.eu/en/
X-WR-CALDESC:Events for Engrenage[s]
REFRESH-INTERVAL;VALUE=DURATION:PT1H
X-Robots-Tag:noindex
X-PUBLISHED-TTL:PT1H
BEGIN:VTIMEZONE
TZID:Europe/Paris
BEGIN:DAYLIGHT
TZOFFSETFROM:+0100
TZOFFSETTO:+0200
TZNAME:CEST
DTSTART:20230326T010000
END:DAYLIGHT
BEGIN:STANDARD
TZOFFSETFROM:+0200
TZOFFSETTO:+0100
TZNAME:CET
DTSTART:20231029T010000
END:STANDARD
END:VTIMEZONE
BEGIN:VEVENT
DTSTART;TZID=Europe/Paris:20231006T200000
DTEND;TZID=Europe/Paris:20231006T235500
DTSTAMP:20260422T071936
CREATED:20230913T085306Z
LAST-MODIFIED:20230913T091626Z
UID:10000722-1696622400-1696636500@www.engrenages.eu
SUMMARY:Le Funk Prend les Rennes - Soirée anniversaire aux Ateliers du Vent
DESCRIPTION:ENGRENAGE[S] FÊTE SES 20 ANS\nSOIRÉE MÉGA JAM « QUAND ON CHERCHE\, ON GROOVE »\nJam fan­fare en exté­rieur avec The Soul Spi­rit Choir et les Fonk’­Fa­rons\nJam groove à l’in­té­rieur\nPHOTOMATON LA BOITE NOIRE ET D’AUTRES SURPRISES \n  \nTout public – Tarifs : 5€ / 2\,5€ SORTIR\nRes­tau­ra­tion pos­sible sur place
URL:https://www.engrenages.eu/en/evenement/le-funk-prend-les-rennes-ateliers-du-vent/
LOCATION:Les Ateliers du Vent\, 59 rue Alexandre Duval\, Rennes\, France
ATTACH;FMTTYPE=image/jpeg:https://www.engrenages.eu/wp-content/uploads/2023/09/Soiree-aux-ateliers-du-vent-c-Thomas-Guionnet--scaled.jpg
ORGANIZER;CN="Engrenage[s]":MAILTO:contact@engrenages.eu
GEO:48.1032614;-1.6969241
X-APPLE-STRUCTURED-LOCATION;VALUE=URI;X-ADDRESS=Les Ateliers du Vent 59 rue Alexandre Duval Rennes France;X-APPLE-RADIUS=500;X-TITLE=59 rue Alexandre Duval:geo:-1.6969241,48.1032614
END:VEVENT
END:VCALENDAR