BEGIN:VCALENDAR
VERSION:2.0
PRODID:-//Engrenage[s] - ECPv6.10.2//NONSGML v1.0//EN
CALSCALE:GREGORIAN
METHOD:PUBLISH
X-WR-CALNAME:Engrenage[s]
X-ORIGINAL-URL:https://www.engrenages.eu/en/
X-WR-CALDESC:Events for Engrenage[s]
REFRESH-INTERVAL;VALUE=DURATION:PT1H
X-Robots-Tag:noindex
X-PUBLISHED-TTL:PT1H
BEGIN:VTIMEZONE
TZID:Europe/Paris
BEGIN:DAYLIGHT
TZOFFSETFROM:+0100
TZOFFSETTO:+0200
TZNAME:CEST
DTSTART:20230326T010000
END:DAYLIGHT
BEGIN:STANDARD
TZOFFSETFROM:+0200
TZOFFSETTO:+0100
TZNAME:CET
DTSTART:20231029T010000
END:STANDARD
END:VTIMEZONE
BEGIN:VEVENT
DTSTART;TZID=Europe/Paris:20231005T200000
DTEND;TZID=Europe/Paris:20231005T235500
DTSTAMP:20260422T071802
CREATED:20230913T075901Z
LAST-MODIFIED:20230913T091742Z
UID:10000721-1696536000-1696550100@www.engrenages.eu
SUMMARY:Le Funk Prend les Rennes - DIAPASON
DESCRIPTION:KINYONGA + WE ARE\nACCOMPAGNÉS PAR LA COSTUMERIE DES HABITS ET VOUS ET LE\nPHOTOMATON LA BOITE NOIRE\nLA SOIRÉE DÉBUTERA PAR UN INCONTOURNABLE SOUL TRAIN LINE\norches­tré par l’é­quipe de l’as­so­cia­tion MoOod & DJ FILSAN \n  \nTarifs : 20€ / deman­deur d’emploi et per­son­nel de l’U­ni­ver­si­té de Rennes :10€ / Tarif Sor­tir : 5€
URL:https://www.engrenages.eu/en/evenement/le-funk-prend-les-rennes-diapason/
LOCATION:Le Diapason\, Allée Jules Noël\, Rennes\, 35000\, France
ATTACH;FMTTYPE=image/jpeg:https://www.engrenages.eu/wp-content/uploads/2023/09/le-funk-prend-les-rennes-2017-Nico-M-Photographe-39-scaled.jpg
GEO:48.1171122;-1.6456543
X-APPLE-STRUCTURED-LOCATION;VALUE=URI;X-ADDRESS=Le Diapason Allée Jules Noël Rennes 35000 France;X-APPLE-RADIUS=500;X-TITLE=Allée Jules Noël:geo:-1.6456543,48.1171122
END:VEVENT
END:VCALENDAR