BEGIN:VCALENDAR
VERSION:2.0
PRODID:-//Engrenage[s] - ECPv6.10.2//NONSGML v1.0//EN
CALSCALE:GREGORIAN
METHOD:PUBLISH
X-WR-CALNAME:Engrenage[s]
X-ORIGINAL-URL:https://www.engrenages.eu/en/
X-WR-CALDESC:Events for Engrenage[s]
REFRESH-INTERVAL;VALUE=DURATION:PT1H
X-Robots-Tag:noindex
X-PUBLISHED-TTL:PT1H
BEGIN:VTIMEZONE
TZID:Europe/Paris
BEGIN:DAYLIGHT
TZOFFSETFROM:+0100
TZOFFSETTO:+0200
TZNAME:CEST
DTSTART:20230326T010000
END:DAYLIGHT
BEGIN:STANDARD
TZOFFSETFROM:+0200
TZOFFSETTO:+0100
TZNAME:CET
DTSTART:20231029T010000
END:STANDARD
END:VTIMEZONE
BEGIN:VEVENT
DTSTART;TZID=Europe/Paris:20230729T190000
DTEND;TZID=Europe/Paris:20230729T203000
DTSTAMP:20260422T165619
CREATED:20230720T115720Z
LAST-MODIFIED:20230720T120703Z
UID:10000716-1690657200-1690662600@www.engrenages.eu
SUMMARY:KINYONGA - Représentation - La piste de danse de l'Eté marseillais
DESCRIPTION:La piste de danse de l’E­té mar­seillais\nBals et danses\nTemps fort\nPublic : Tout public\nDan­ser pour célé­brer la joie de se retrou­ver\, sur la piste de l’été mar­seillais\, lais­sez votre corps s’exprimer. Quel que soit votre âge\, votre niveau en danse. Que vous ayez le sens du rythme ou pas\, c’est avant tout un moment de retrou­vailles et de fête popu­laire au pied de la cathé­drale de la Major. Ani­mé par des musi­ciens\, comé­diens et évi­dem­ment des dan­seurs\, ce moment pro­pose éga­le­ment des acti­vi­tés pour les enfants. Sur place un espace pour pique-niquer et se res­tau­rer. Et quoi de mieux pour la diges­tion … qu’un petit pas de danse.
URL:https://www.engrenages.eu/en/evenement/marseille/
LOCATION:Place de la Major\, Place de la Major\, Marseille\, 13002\, France
ATTACH;FMTTYPE=image/jpeg:https://www.engrenages.eu/wp-content/uploads/2020/09/Thom-20201105162141_THM4592-scaled.jpg
GEO:43.2988899;5.365036
X-APPLE-STRUCTURED-LOCATION;VALUE=URI;X-ADDRESS=Place de la Major Place de la Major Marseille 13002 France;X-APPLE-RADIUS=500;X-TITLE=Place de la Major:geo:5.365036,43.2988899
END:VEVENT
END:VCALENDAR