BEGIN:VCALENDAR
VERSION:2.0
PRODID:-//Engrenage[s] - ECPv6.10.2//NONSGML v1.0//EN
CALSCALE:GREGORIAN
METHOD:PUBLISH
X-WR-CALNAME:Engrenage[s]
X-ORIGINAL-URL:https://www.engrenages.eu/en/
X-WR-CALDESC:Events for Engrenage[s]
REFRESH-INTERVAL;VALUE=DURATION:PT1H
X-Robots-Tag:noindex
X-PUBLISHED-TTL:PT1H
BEGIN:VTIMEZONE
TZID:Europe/Paris
BEGIN:DAYLIGHT
TZOFFSETFROM:+0100
TZOFFSETTO:+0200
TZNAME:CEST
DTSTART:20230326T010000
END:DAYLIGHT
BEGIN:STANDARD
TZOFFSETFROM:+0200
TZOFFSETTO:+0100
TZNAME:CET
DTSTART:20231029T010000
END:STANDARD
END:VTIMEZONE
BEGIN:VEVENT
DTSTART;TZID=Europe/Paris:20230303T210000
DTEND;TZID=Europe/Paris:20230303T230000
DTSTAMP:20260423T012059
CREATED:20230123T144655Z
LAST-MODIFIED:20230123T144655Z
UID:10000632-1677877200-1677884400@www.engrenages.eu
SUMMARY:TRACES DE DANSES Marie Houdin // l'Humain d'abord - Château de Nantes
DESCRIPTION:TRACES DE DANSES Marie Houdin/The Unex­pec­ted Dance – Châ­teau de Nantes\npro­jec­tion vidéo\, dif­fu­sions sonores\, com­men­tées et dan­sées\, 2023–2024\,1h \n« Traces de Danses » ouvre un car­net de voyage vidéo\, sonore et dan­sé de voyages vécus à par­tir de 2018\, et qui donnent lieu à des échanges artis­tiques inter­na­tio­naux. À la ren­contre de danses\, d’histoires de danses et de leurs passeu.r.se.s. Entre des terres liées par l’histoire trau­ma­tique du com­merce tri­an­gu­laire. Une route aujourd’hui illu­mi­née par une cir­cu­la­tion de danses et de musiques qui reflètent la dimen­sion résis­tante\, créa­trice et répa­ra­trice des cultures des peuples d’Afrique et d’Amérique. Une dimen­sion dont le monde entier à besoin. Les échos d’un « Tout-Monde » en mou­ve­ment\, d’identités ryz­ho­miques\, qui exigent équi­té\, jus­tice et répa­ra­tions\, tout en célé­brant qui ils.elles sont\, et celles.ceux qui les ont précédé.e.s.
URL:https://www.engrenages.eu/en/evenement/traces-de-danses-marie-houdin-lhumain-dabord-chateau-de-nantes/
LOCATION:Chateau des ducs de Bretagne\, 4 place Marc Elder\, Nantes\, 44000\, France
ATTACH;FMTTYPE=image/png:https://www.engrenages.eu/wp-content/uploads/2023/01/Capture-4.png
GEO:47.2163906;-1.548708
X-APPLE-STRUCTURED-LOCATION;VALUE=URI;X-ADDRESS=Chateau des ducs de Bretagne 4 place Marc Elder Nantes 44000 France;X-APPLE-RADIUS=500;X-TITLE=4 place Marc Elder:geo:-1.548708,47.2163906
END:VEVENT
END:VCALENDAR