BEGIN:VCALENDAR
VERSION:2.0
PRODID:-//Engrenage[s] - ECPv6.10.2//NONSGML v1.0//EN
CALSCALE:GREGORIAN
METHOD:PUBLISH
X-WR-CALNAME:Engrenage[s]
X-ORIGINAL-URL:https://www.engrenages.eu/en/
X-WR-CALDESC:Events for Engrenage[s]
REFRESH-INTERVAL;VALUE=DURATION:PT1H
X-Robots-Tag:noindex
X-PUBLISHED-TTL:PT1H
BEGIN:VTIMEZONE
TZID:Europe/Paris
BEGIN:DAYLIGHT
TZOFFSETFROM:+0100
TZOFFSETTO:+0200
TZNAME:CEST
DTSTART:20230326T010000
END:DAYLIGHT
BEGIN:STANDARD
TZOFFSETFROM:+0200
TZOFFSETTO:+0100
TZNAME:CET
DTSTART:20231029T010000
END:STANDARD
END:VTIMEZONE
BEGIN:VEVENT
DTSTART;TZID=Europe/Paris:20230302T110000
DTEND;TZID=Europe/Paris:20230302T130000
DTSTAMP:20260423T012103
CREATED:20230207T092617Z
LAST-MODIFIED:20230207T092617Z
UID:10000638-1677754800-1677762000@www.engrenages.eu
SUMMARY:Rencontre professionnelle - Marie Houdin
DESCRIPTION:Dans le cadre du fes­ti­val Dañs­Fa­brik\, Spec­tacle vivant en Bre­tagne\, en par­te­na­riat avec Iti­né­raires d’artiste(s)\, convie les res­pon­sables de pro­gram­ma­tion à (re)découvrir 3 démarches cho­ré­gra­phiques en tes­tant un for­mat qui com­bine décou­verte\, débat et convi­via­li­té. \n→ Trait d’union ! Com­ment les voyages relient les mondes et trans­forment la danse ?\npar Marie Hou­din
URL:https://www.engrenages.eu/en/evenement/rencontre-professionnelle-marie-houdin/
LOCATION:la Chapelle Dérézo\, 13-15 Rue de Maissin\, Brest\, 29200\, France
ATTACH;FMTTYPE=image/jpeg:https://www.engrenages.eu/wp-content/uploads/2022/10/Marie-Houdin-c-Lam-Nguyen.jpg
GEO:48.3858758;-4.5028815
X-APPLE-STRUCTURED-LOCATION;VALUE=URI;X-ADDRESS=la Chapelle Dérézo 13-15 Rue de Maissin Brest 29200 France;X-APPLE-RADIUS=500;X-TITLE=13-15 Rue de Maissin:geo:-4.5028815,48.3858758
END:VEVENT
END:VCALENDAR