BEGIN:VCALENDAR
VERSION:2.0
PRODID:-//Engrenage[s] - ECPv6.10.2//NONSGML v1.0//EN
CALSCALE:GREGORIAN
METHOD:PUBLISH
X-WR-CALNAME:Engrenage[s]
X-ORIGINAL-URL:https://www.engrenages.eu/en/
X-WR-CALDESC:Events for Engrenage[s]
REFRESH-INTERVAL;VALUE=DURATION:PT1H
X-Robots-Tag:noindex
X-PUBLISHED-TTL:PT1H
BEGIN:VTIMEZONE
TZID:Europe/Paris
BEGIN:DAYLIGHT
TZOFFSETFROM:+0100
TZOFFSETTO:+0200
TZNAME:CEST
DTSTART:20220327T010000
END:DAYLIGHT
BEGIN:STANDARD
TZOFFSETFROM:+0200
TZOFFSETTO:+0100
TZNAME:CET
DTSTART:20221030T010000
END:STANDARD
END:VTIMEZONE
BEGIN:VEVENT
DTSTART;TZID=Europe/Paris:20220206T170000
DTEND;TZID=Europe/Paris:20221124T193000
DTSTAMP:20260423T195914
CREATED:20221124T110701Z
LAST-MODIFIED:20230110T153958Z
UID:10000623-1644166800-1669318200@www.engrenages.eu
SUMMARY:REPORT : Bal du "Tout-Monde" - dans le cadre du festival NIJINSKID Exemplaire
DESCRIPTION:Bien­ve­nue à bord du vol« Afri­ca­me­raïbe »\, à des­ti­na­tion de l’archipel du « Tout – Monde ». Ici\, pas ques­tion d’attacher sa cein­ture : le groove est roi ! La mifa du « Tout – Monde » est votre guide dans ce road trip dan­sant. D’une escale à l’autre\, vous êtes invité·e·s à un voyage qui rap­proche des îles et des conti­nents. Sapé·e·s de vos habits de lumière\, il n’y a plus qu’à vous lais­ser conta­mi­ner et à cha­lou­per en lais­sant le bon temps rou­ler !
URL:https://www.engrenages.eu/en/evenement/bal-du-tout-monde-nijinskid/
LOCATION:Salle des 3 îles\, 5 Rue des Chaintres\, Indre\, 44610\, France
ATTACH;FMTTYPE=image/jpeg:https://www.engrenages.eu/wp-content/uploads/2022/06/Le-Bal-du-Tout-Monde-c-Thomas-Guionnet-3-scaled.jpg
GEO:47.1973103;-1.6583069
X-APPLE-STRUCTURED-LOCATION;VALUE=URI;X-ADDRESS=Salle des 3 îles 5 Rue des Chaintres Indre 44610 France;X-APPLE-RADIUS=500;X-TITLE=5 Rue des Chaintres:geo:-1.6583069,47.1973103
END:VEVENT
BEGIN:VEVENT
DTSTART;TZID=Europe/Paris:20220910T193000
DTEND;TZID=Europe/Paris:20220910T213000
DTSTAMP:20260423T195914
CREATED:20220414T144956Z
LAST-MODIFIED:20230110T153933Z
UID:10000306-1662838200-1662845400@www.engrenages.eu
SUMMARY:DES HABITS ET VOUS - Fête de la Saint Gorgon / CANTELEU
DESCRIPTION:La Cos­tu­me­rie Des Habits et Vous pose des bagage le temps d’une soi­rée à Mou­lins à l’oc­ca­sion du fes­ti­val DesAR­Ti­cu­lé. \nL’oc­ca­sion de créer à nou­veau ce curieux espace d’où l’on res­sort cos­tu­mé de la tête au pied\, qui regorge de tenues aus­si riches que variées. \n 
URL:https://www.engrenages.eu/en/evenement/des-habits-et-vous-festival-desarticule-moulins-2/
LOCATION:Parc Arthur Lefebvre\, Parc Arthur Lefebvre\, Canteleu\, 76380\, France
ATTACH;FMTTYPE=image/jpeg:https://www.engrenages.eu/wp-content/uploads/2014/06/74638371_2397316550393868_9202657087463620608_n.jpg
GEO:49.4518548;1.0325971
X-APPLE-STRUCTURED-LOCATION;VALUE=URI;X-ADDRESS=Parc Arthur Lefebvre Parc Arthur Lefebvre Canteleu 76380 France;X-APPLE-RADIUS=500;X-TITLE=Parc Arthur Lefebvre:geo:1.0325971,49.4518548
END:VEVENT
BEGIN:VEVENT
DTSTART;TZID=Europe/Paris:20220910T213000
DTEND;TZID=Europe/Paris:20220910T230000
DTSTAMP:20260423T195914
CREATED:20220719T073427Z
LAST-MODIFIED:20230130T045108Z
UID:10000616-1662845400-1662850800@www.engrenages.eu
SUMMARY:KINYONGA - Festival "Accroches-Coeur" Angers
DESCRIPTION:LIVE BAND – DANSE \nLe besoin de dan­ser\, faire vivre les musiques qui s’y prêtent\, l’évidence a fait sur­gir cette envie de ras­sem­bler le funk\, l” afro­beat\, et bien d’autres influences pour s’ambiancer ! Quand le funk enra­cine nos repères les plus ancrés\, l’afrobeat vient inver­ser ces repré­sen­ta­tions géo­mé­triques du rythme. Cet effet d’inversion crée un mou­ve­ment pro­pice à une transe nou­velle aux arti­cu­la­tions sub­tiles et néces­saires aux rebonds les plus modernes. \nLes membres de Kinyon­ga\, habi­tués des créa­tions plu­ri­dis­ci­pli­naires\, mêlant musique\, invi­ta­tion à dan­ser\, rue\, scène… embarquent le public dans un voyage de l’ici et main­te­nant\, à tra­vers une large invi­ta­tion à res­sen­tir ce qui se joue en live\, trans­cen­dant les époques et les styles : le plai­sir du col­lec­tif\, de la musique et du mou­ve­ment… La danse est au cœur des repré­sen­ta­tions et fait la par­ti­cu­la­ri­té de Kinyon­ga\, l’univers musi­cal s’ac­com­pagne d’un MC-ambian­ceur et d’une bas­siste éga­le­ment dan­seurs qui invitent volon­tiers le public à bou­ger ! \nDis­tri­bu­tion\nBat­te­rie / chœurs : Mar­cus Camus\nGui­tare : Yohann Le Fer­rand\nCla­vier : Sarah Kay\nTrom­pette : Guillaume Bou­geard\nSax Bary­ton : Eli­sa­beth Paniez (09/08) & Jean-Bap­tiste Tarot (10/08)\nSax : Pierre-Yves Merel\nDanse/ ambian­ce­ment / chant : Fran­co\nDanse/ basse : Elo­die Beau­det\nPer­cus­sions : Pierre Nor­mand
URL:https://www.engrenages.eu/en/evenement/kinyonga-festival-aux-arts-puilborains/2022-09-10/
LOCATION:Place Ney\, 25 Rue de Villemorge\, Angers\, 49100\, France
ATTACH;FMTTYPE=image/jpeg:https://www.engrenages.eu/wp-content/uploads/2021/12/Thom-20201105155423_THM4516-scaled.jpg
GEO:47.4785097;-0.5436637
X-APPLE-STRUCTURED-LOCATION;VALUE=URI;X-ADDRESS=Place Ney 25 Rue de Villemorge Angers 49100 France;X-APPLE-RADIUS=500;X-TITLE=25 Rue de Villemorge:geo:-0.5436637,47.4785097
END:VEVENT
END:VCALENDAR