BEGIN:VCALENDAR
VERSION:2.0
PRODID:-//Engrenage[s] - ECPv6.10.2//NONSGML v1.0//EN
CALSCALE:GREGORIAN
METHOD:PUBLISH
X-WR-CALNAME:Engrenage[s]
X-ORIGINAL-URL:https://www.engrenages.eu/en/
X-WR-CALDESC:Events for Engrenage[s]
REFRESH-INTERVAL;VALUE=DURATION:PT1H
X-Robots-Tag:noindex
X-PUBLISHED-TTL:PT1H
BEGIN:VTIMEZONE
TZID:Europe/Paris
BEGIN:DAYLIGHT
TZOFFSETFROM:+0100
TZOFFSETTO:+0200
TZNAME:CEST
DTSTART:20220327T010000
END:DAYLIGHT
BEGIN:STANDARD
TZOFFSETFROM:+0200
TZOFFSETTO:+0100
TZNAME:CET
DTSTART:20221030T010000
END:STANDARD
END:VTIMEZONE
BEGIN:VEVENT
DTSTART;TZID=Europe/Paris:20220206T170000
DTEND;TZID=Europe/Paris:20221124T193000
DTSTAMP:20260423T195942
CREATED:20221124T110701Z
LAST-MODIFIED:20230110T153958Z
UID:10000623-1644166800-1669318200@www.engrenages.eu
SUMMARY:REPORT : Bal du "Tout-Monde" - dans le cadre du festival NIJINSKID Exemplaire
DESCRIPTION:Bien­ve­nue à bord du vol« Afri­ca­me­raïbe »\, à des­ti­na­tion de l’archipel du « Tout – Monde ». Ici\, pas ques­tion d’attacher sa cein­ture : le groove est roi ! La mifa du « Tout – Monde » est votre guide dans ce road trip dan­sant. D’une escale à l’autre\, vous êtes invité·e·s à un voyage qui rap­proche des îles et des conti­nents. Sapé·e·s de vos habits de lumière\, il n’y a plus qu’à vous lais­ser conta­mi­ner et à cha­lou­per en lais­sant le bon temps rou­ler !
URL:https://www.engrenages.eu/en/evenement/bal-du-tout-monde-nijinskid/
LOCATION:Salle des 3 îles\, 5 Rue des Chaintres\, Indre\, 44610\, France
ATTACH;FMTTYPE=image/jpeg:https://www.engrenages.eu/wp-content/uploads/2022/06/Le-Bal-du-Tout-Monde-c-Thomas-Guionnet-3-scaled.jpg
GEO:47.1973103;-1.6583069
X-APPLE-STRUCTURED-LOCATION;VALUE=URI;X-ADDRESS=Salle des 3 îles 5 Rue des Chaintres Indre 44610 France;X-APPLE-RADIUS=500;X-TITLE=5 Rue des Chaintres:geo:-1.6583069,47.1973103
END:VEVENT
BEGIN:VEVENT
DTSTART;VALUE=DATE:20220903
DTEND;VALUE=DATE:20220904
DTSTAMP:20260423T195942
CREATED:20220614T125123Z
LAST-MODIFIED:20230110T153935Z
UID:10000600-1662163200-1662249599@www.engrenages.eu
SUMMARY:Tiki Paradise - Représentation - La Guerche de Bretagne
DESCRIPTION:Depuis la nuit des temps\, l’homme rêve d’un ailleurs exo­tiques où ils feraient bon vivre. Tiki Para­dise reprend les codes de l’exotica pour créer la bande son oni­rique de ce lieu fan­tas­mé. Style mécon­nu en France\, la fièvre exo­ti­ca appa­raît à la fin des années 50 aux Etats-Unis. Ce genre s’inspire de musiques tra­di­tion­nelles pro­ve­nant de l’Océanie\, du sud de l’Asie\, de l’Amérique latine ou encore de l’Afrique. « Tiki » est donc un clin d’œil à la culture poly­né­sienne en grande par­tie fan­tas­mée. « Para­dise »\, c’est la dou­ceur de vivre\, une ambiance apai­sante dans un esprit tro­pi­cal loin­tain. \nLe qua­tuor bre­ton réex­plore ce cha­pitre étrange de la culture pop amé­ri­caine.
URL:https://www.engrenages.eu/en/evenement/tiki-paradise-representation-la-guerche-de-bretagne/
LOCATION:La Guerche de Bretagne\, France
ATTACH;FMTTYPE=image/jpeg:https://www.engrenages.eu/wp-content/uploads/2022/06/TIKI-PARADISE.jpg
END:VEVENT
BEGIN:VEVENT
DTSTART;TZID=Europe/Paris:20220903T223000
DTEND;TZID=Europe/Paris:20220904T000000
DTSTAMP:20260423T195942
CREATED:20220614T130049Z
LAST-MODIFIED:20230110T153934Z
UID:10000601-1662244200-1662249600@www.engrenages.eu
SUMMARY:Rendez-vous du "Tout-Monde"
DESCRIPTION:Des envoyés spé­ciaux de la mifa du « Tout-Monde » vous donnent ren­dez-vous pour une escale mul­ti des­ti­na­tion où le groove sera roi.
URL:https://www.engrenages.eu/en/evenement/rendez-vous-du-tout-monde/
LOCATION:Sarzeau\, France
ATTACH;FMTTYPE=image/png:https://www.engrenages.eu/wp-content/uploads/2022/08/LPB_Linkedin_1200x627-bretragne.png
END:VEVENT
END:VCALENDAR