BEGIN:VCALENDAR
VERSION:2.0
PRODID:-//Engrenage[s] - ECPv6.10.2//NONSGML v1.0//EN
CALSCALE:GREGORIAN
METHOD:PUBLISH
X-WR-CALNAME:Engrenage[s]
X-ORIGINAL-URL:https://www.engrenages.eu/en/
X-WR-CALDESC:Events for Engrenage[s]
REFRESH-INTERVAL;VALUE=DURATION:PT1H
X-Robots-Tag:noindex
X-PUBLISHED-TTL:PT1H
BEGIN:VTIMEZONE
TZID:Europe/Paris
BEGIN:DAYLIGHT
TZOFFSETFROM:+0100
TZOFFSETTO:+0200
TZNAME:CEST
DTSTART:20180325T010000
END:DAYLIGHT
BEGIN:STANDARD
TZOFFSETFROM:+0200
TZOFFSETTO:+0100
TZNAME:CET
DTSTART:20181028T010000
END:STANDARD
END:VTIMEZONE
BEGIN:VEVENT
DTSTART;VALUE=DATE:20181027
DTEND;VALUE=DATE:20181028
DTSTAMP:20260424T211218
CREATED:20181002T141348Z
LAST-MODIFIED:20230110T154207Z
UID:10000040-1540598400-1540684799@www.engrenages.eu
SUMMARY:Des Habits et Vous  & DJ DEHEB
DESCRIPTION:Artiste très pro­li­fique\, pio­chant dans le funk et le jazz une grosse par­tie de son aspi­ra­tion\, DJ Deheb avec la Cos­tu­me­rie ambian­ce­ront sur des rythmes funk la soi­rée des­ti­née aux béné­voles du fes­ti­val les Esclaf­fades. La Cos­tu­me­rie ambu­lante « Des Habits et Vous »\, curieux espace d’où l’on res­sort cos­tu­mé de la tête au pied\, est un ves­tiaire qui regorge de tenues aus­si riches que variées. Pre­nez vous au jeu de la SAPE* et habillez-vous le temps d’un évé­ne­ment. Effet garan­ti ! *Socié­té des Ambian­ceurs et des Per­sonnes Élé­gantes. La Cos­tu­me­rie ambu­lante « Des Habits et Vous »\, curieux espace d’où l’on res­sort cos­tu­mé de la tête au pied\, est un ves­tiaire qui regorge de tenues aus­si riches que variées. Pre­nez vous au jeu de la SAPE* et habillez-vous le temps d’un évé­ne­ment. Effet garan­ti ! \n*Socié­té des Ambian­ceurs et des Per­sonnes Élé­gantes.
URL:https://www.engrenages.eu/en/evenement/des-habits-et-vous-3-2-2-6-2-2/
LOCATION:Saint-Helen\, Saint-Hélen\, 22100\, France
ATTACH;FMTTYPE=image/png:https://www.engrenages.eu/wp-content/uploads/2018/03/dj-deheb.png
GEO:48.1159299;-1.67296
END:VEVENT
END:VCALENDAR