BEGIN:VCALENDAR
VERSION:2.0
PRODID:-//Engrenage[s] - ECPv6.10.2//NONSGML v1.0//EN
CALSCALE:GREGORIAN
METHOD:PUBLISH
X-ORIGINAL-URL:https://www.engrenages.eu/en/
X-WR-CALDESC:Events for Engrenage[s]
REFRESH-INTERVAL;VALUE=DURATION:PT1H
X-Robots-Tag:noindex
X-PUBLISHED-TTL:PT1H
BEGIN:VTIMEZONE
TZID:Europe/Paris
BEGIN:DAYLIGHT
TZOFFSETFROM:+0100
TZOFFSETTO:+0200
TZNAME:CEST
DTSTART:20180325T010000
END:DAYLIGHT
BEGIN:STANDARD
TZOFFSETFROM:+0200
TZOFFSETTO:+0100
TZNAME:CET
DTSTART:20181028T010000
END:STANDARD
END:VTIMEZONE
BEGIN:VEVENT
DTSTART;TZID=Europe/Paris:20181012T100000
DTEND;TZID=Europe/Paris:20181012T113000
DTSTAMP:20260424T224459
CREATED:20180528T125821Z
LAST-MODIFIED:20230110T154209Z
UID:10000203-1539338400-1539343800@www.engrenages.eu
SUMMARY:Seul à sol
DESCRIPTION:Toute vie débute par un bat­te­ment de cœur. Toute vie débute par un rythme. Tel un métro­nome\, le temps semble s’insinuer au plus pro­fond de l’âme pour rap­pe­ler\, à chaque ins­tant\, qu’il est comp­té… Le dan­seur Fran­co dévoile une démarche intime évo­quant son par­cours de vie et d’artiste. Com­ment avan­cer et se construire avec son his­toire\, ses envies\, ses craintes ? Choi­sir dans ses dilemmes et assu­mer ses contra­dic­tions. Trou­ver l’essence même de son âme et de son art\, au milieu de toutes ces influences. N’est-ce pas cela exis­ter ?
URL:https://www.engrenages.eu/en/evenement/seul-a-sol-2/
ATTACH;FMTTYPE=image/jpeg:https://www.engrenages.eu/wp-content/uploads/2017/12/Seul-à-Sol-Franco-1160x773.jpg
END:VEVENT
BEGIN:VEVENT
DTSTART;TZID=Europe/Paris:20181012T203000
DTEND;TZID=Europe/Paris:20181012T223000
DTSTAMP:20260424T224459
CREATED:20180528T130102Z
LAST-MODIFIED:20230110T154208Z
UID:10000204-1539376200-1539383400@www.engrenages.eu
SUMMARY:Soul N' Pepper
DESCRIPTION:Une ren­contre épi­cée entre six musi­ciens et deux dan­seurs funk­style\, pour un groove com­mun… et conta­gieux ! « Soul N’ Pep­per » est un voyage ini­tia­tique au cœur des années 1970 au cours duquel le public est invi­té à suivre des fun­ky step irré­sis­tibles\, à dan­ser et se lâcher. Soul N’Pepper est un concept live et dan­sé qui peut se décli­ner en plu­sieurs ver­sions\, en rue comme sur scène\, et de durée adap­table. \n 
URL:https://www.engrenages.eu/en/evenement/soul-npepper-3-2-2/
LOCATION:Salle socio-culturelle de Meslay-du-Maine\, 16 Place de la Poste\, Meslay-du-Maine\, 53170\, France
ATTACH;FMTTYPE=image/jpeg:https://www.engrenages.eu/wp-content/uploads/2017/09/snp-HD-Thomas-Guionnet.jpg
GEO:47.9515561;-0.552613
X-APPLE-STRUCTURED-LOCATION;VALUE=URI;X-ADDRESS=Salle socio-culturelle de Meslay-du-Maine 16 Place de la Poste Meslay-du-Maine 53170 France;X-APPLE-RADIUS=500;X-TITLE=16 Place de la Poste:geo:-0.552613,47.9515561
END:VEVENT
END:VCALENDAR